BEGIN:VCALENDAR
VERSION:2.0
PRODID:-//wp-events-plugin.com//7.2.3.1//EN
TZID:America/Chicago
X-WR-TIMEZONE:America/Chicago
BEGIN:VEVENT
UID:383743@hrbuni.com
DTSTART;TZID=America/New_York:20261201T083000
DTEND;TZID=America/New_York:20261201T160000
DTSTAMP:20260122T194851Z
URL:https://hrbuni.com/search/west-palm-beach-fl-servsafe-food-protection-
 manager-exam-course-2026-02-10-2026-03-24-2026-05-05-2026-06-16-2026-07-28
 -2026-09-08-2026-10-20-2026-12-01/
SUMMARY:Boca Raton\, FL ServSafe® Food Protection Manager Exam & Course
DESCRIPTION:Boca Raton\, FL ServSafe® Food Protection Manager Exam & Cours
 e - Looking for a trusted ServSafe® Food Protection Manager Certification
  program in Miami\, FL? Look no further. Our comprehensive training is acc
 redited by the American National Standards Institute (ANSI)-Conference for
  Food Protection (CFP)\, ensuring you receive a credential that meets the 
 highest standards.
ATTACH;FMTTYPE=image/jpeg:https://hrbuni.com/wp-content/uploads/2024/07/Se
 rvSafeProct.fw_-300x200-1.jpg
CATEGORIES:-- Instructor-Led In-Person Course &amp; Exam,Courses &amp;
 Exams Categories,Food Manager
LOCATION:Boca Raton\, FL ServSafe® & NRA Certification Programs\, HRBUnive
 rsal Training Center\, Boca Raton\, Florida\, United States
GEO:26.368306;-80.128932
X-APPLE-STRUCTURED-LOCATION;VALUE=URI;X-ADDRESS=HRBUniversal Training Cente
 r\, Boca Raton\, Florida\, United States;X-APPLE-RADIUS=100;X-TITLE=Boca R
 aton\, FL ServSafe® & NRA Certification Programs:geo:26.368306,-80.128932
END:VEVENT
BEGIN:VTIMEZONE
TZID:America/New_York
X-LIC-LOCATION:America/New_York
BEGIN:STANDARD
DTSTART:20261101T010000
TZOFFSETFROM:-0400
TZOFFSETTO:-0500
TZNAME:EST
END:STANDARD
END:VTIMEZONE
END:VCALENDAR