BEGIN:VCALENDAR
VERSION:2.0
PRODID:-//wp-events-plugin.com//7.2.3.1//EN
TZID:America/Chicago
X-WR-TIMEZONE:America/Chicago
BEGIN:VEVENT
UID:382836@hrbuni.com
DTSTART;TZID=America/New_York:20260505T083000
DTEND;TZID=America/New_York:20260505T160000
DTSTAMP:20251219T163122Z
URL:https://hrbuni.com/search/west-palm-beach-fl-responsible-training-food
 -protection-manager-exam-course-2026-02-10-2026-03-24-2026-05-05/
SUMMARY:West Palm Beach\, FL Responsible Training Food Protection Manager E
 xam & Course
DESCRIPTION:West Palm Beach\, FL Responsible Training Food Protection Manag
 er Exam & Course - Are you looking to earn your Food Protection Manager Ce
 rtification in West Palm Beach\, FL? Our Responsible Training program is t
 he premier choice for local food service professionals. As an ANSI-CFP acc
 redited provider\, we deliver a comprehensive curriculum that blends the m
 ost recent FDA Food Code updates with decades of hands-on food sanitation 
 expertise. Developed by Responsible Training in collaboration with industr
 y leaders\, our course is designed to prepare you for real-world safety ch
 allenges.
ATTACH;FMTTYPE=image/jpeg:https://hrbuni.com/wp-content/uploads/2023/09/Sc
 reenshot-2024-06-10-at-7.40.56 PM-1.png
CATEGORIES:-- Instructor-Led In-Person Course &amp; Exam,Courses &amp;
 Exams Categories,Food Manager
LOCATION:West Palm Beach\, FL Certification Academy\, HRBUniversal Training
  Center\, West Palm Beach\, Florida\, United States
GEO:26.715342;-80.053375
X-APPLE-STRUCTURED-LOCATION;VALUE=URI;X-ADDRESS=HRBUniversal Training Cente
 r\, West Palm Beach\, Florida\, United States;X-APPLE-RADIUS=100;X-TITLE=W
 est Palm Beach\, FL Certification Academy:geo:26.715342,-80.053375
END:VEVENT
BEGIN:VTIMEZONE
TZID:America/New_York
X-LIC-LOCATION:America/New_York
BEGIN:DAYLIGHT
DTSTART:20260308T030000
TZOFFSETFROM:-0500
TZOFFSETTO:-0400
TZNAME:EDT
END:DAYLIGHT
END:VTIMEZONE
END:VCALENDAR