BEGIN:VCALENDAR
VERSION:2.0
PRODID:-//wp-events-plugin.com//7.2.3.1//EN
TZID:America/Chicago
X-WR-TIMEZONE:America/Chicago
BEGIN:VEVENT
UID:382380@hrbuni.com
DTSTART;TZID=America/New_York:20260505T083000
DTEND;TZID=America/New_York:20260505T160000
DTSTAMP:20251218T140315Z
URL:https://hrbuni.com/search/west-palm-beach-fl-food-protection-manager-c
 ertification-course-exam-2026-02-10-2026-03-24-2026-05-05/
SUMMARY:West Palm Beach\, FL Food Protection Manager Certification Course &
  Exam
DESCRIPTION:West Palm Beach\, FL Food Protection Manager Certification Cour
 se & Exam - Are you a food service professional ready to pass your Food Pr
 otection Manager Certification exam with absolute confidence? Stay ahead o
 f the curve\, ensure total regulatory compliance\, and master the essentia
 l knowledge required for certification with our intensive Food Manager Saf
 ety Training course.
ATTACH;FMTTYPE=image/jpeg:https://hrbuni.com/wp-content/uploads/2025/07/HR
 BUniversal-No-Line.jpg
CATEGORIES:-- Instructor-Led In-Person Course &amp; Exam,Courses &amp;
 Exams Categories,Food Manager
LOCATION:West Palm Beach\, FL Certification Academy\, HRBUniversal Training
  Center\, West Palm Beach\, Florida\, United States
GEO:26.715342;-80.053375
X-APPLE-STRUCTURED-LOCATION;VALUE=URI;X-ADDRESS=HRBUniversal Training Cente
 r\, West Palm Beach\, Florida\, United States;X-APPLE-RADIUS=100;X-TITLE=W
 est Palm Beach\, FL Certification Academy:geo:26.715342,-80.053375
END:VEVENT
BEGIN:VTIMEZONE
TZID:America/New_York
X-LIC-LOCATION:America/New_York
BEGIN:DAYLIGHT
DTSTART:20260308T030000
TZOFFSETFROM:-0500
TZOFFSETTO:-0400
TZNAME:EDT
END:DAYLIGHT
END:VTIMEZONE
END:VCALENDAR