BEGIN:VCALENDAR
VERSION:2.0
PRODID:-//wp-events-plugin.com//7.2.3.1//EN
TZID:America/Chicago
X-WR-TIMEZONE:America/Chicago
BEGIN:VEVENT
UID:383279@hrbuni.com
DTSTART;TZID=America/New_York:20260505T083000
DTEND;TZID=America/New_York:20260505T160000
DTSTAMP:20251230T172346Z
URL:https://hrbuni.com/search/west-palm-beach-fl-fmc-food-managers-certifi
 cation-exam-course-2026-02-10-2026-03-24-2026-05-05/
SUMMARY:West Palm Beach FL FMC® Food Managers Certification Exam & Course
DESCRIPTION:West Palm Beach\, FL FMC® Food Managers Certification Exam & C
 ourse - Professional excellence starts with the right training. HRBUnivers
 al offers a premier ANAB-accredited FMC® Food Managers Certification prog
 ram designed to meet the highest industry standards. By combining the late
 st FDA Food Code with decades of hands-on experience\, we prepare you to t
 ackle any food sanitation challenge.
ATTACH;FMTTYPE=image/jpeg:https://hrbuni.com/wp-content/uploads/2024/06/Sc
 reenshot-2024-06-12-at-11.47.05 AM-1.png
CATEGORIES:-- Instructor-Led In-Person Course &amp; Exam,Courses &amp;
 Exams Categories,Food Manager
LOCATION:West Palm Beach\, FL Certification Academy\, HRBUniversal Training
  Center\, West Palm Beach\, Florida\, United States
GEO:26.715342;-80.053375
X-APPLE-STRUCTURED-LOCATION;VALUE=URI;X-ADDRESS=HRBUniversal Training Cente
 r\, West Palm Beach\, Florida\, United States;X-APPLE-RADIUS=100;X-TITLE=W
 est Palm Beach\, FL Certification Academy:geo:26.715342,-80.053375
END:VEVENT
BEGIN:VTIMEZONE
TZID:America/New_York
X-LIC-LOCATION:America/New_York
BEGIN:DAYLIGHT
DTSTART:20260308T030000
TZOFFSETFROM:-0500
TZOFFSETTO:-0400
TZNAME:EDT
END:DAYLIGHT
END:VTIMEZONE
END:VCALENDAR