BEGIN:VCALENDAR
VERSION:2.0
PRODID:-//wp-events-plugin.com//7.2.3.1//EN
TZID:America/Chicago
X-WR-TIMEZONE:America/Chicago
BEGIN:VEVENT
UID:382776@hrbuni.com
DTSTART;TZID=America/New_York:20260903T083000
DTEND;TZID=America/New_York:20260903T160000
DTSTAMP:20251219T150619Z
URL:https://hrbuni.com/search/tampa-fl-responsible-training-food-protectio
 n-manager-exam-course-2026-02-05-2026-03-19-2026-04-30-2026-06-11-2026-07-
 23-2026-09-03/
SUMMARY:Tampa\, FL Responsible Training Food Protection Manager Exam & Cour
 se
DESCRIPTION:Tampa\, FL Responsible Training Food Protection Manager Exam & 
 Course - Are you looking to earn your Food Protection Manager Certificatio
 n in Tampa\, FL? Our Responsible Training program is the premier choice fo
 r local food service professionals. As an ANSI-CFP accredited provider\, w
 e deliver a comprehensive curriculum that blends the most recent FDA Food 
 Code updates with decades of hands-on food sanitation expertise. Developed
  by Responsible Training in collaboration with industry leaders\, our cour
 se is designed to prepare you for real-world safety challenges.
ATTACH;FMTTYPE=image/jpeg:https://hrbuni.com/wp-content/uploads/2023/09/Sc
 reenshot-2024-06-10-at-7.40.56 PM-1.png
CATEGORIES:-- Instructor-Led In-Person Course &amp; Exam,Courses &amp;
 Exams Categories,Food Manager
LOCATION:Tampa\, FL Certification Academy\, HRBUniversal Training Center\, 
 Tampa\, Florida\, United States
GEO:28.132842;-82.369405
X-APPLE-STRUCTURED-LOCATION;VALUE=URI;X-ADDRESS=HRBUniversal Training Cente
 r\, Tampa\, Florida\, United States;X-APPLE-RADIUS=100;X-TITLE=Tampa\, FL 
 Certification Academy:geo:28.132842,-82.369405
END:VEVENT
BEGIN:VTIMEZONE
TZID:America/New_York
X-LIC-LOCATION:America/New_York
BEGIN:DAYLIGHT
DTSTART:20260308T030000
TZOFFSETFROM:-0500
TZOFFSETTO:-0400
TZNAME:EDT
END:DAYLIGHT
END:VTIMEZONE
END:VCALENDAR