BEGIN:VCALENDAR
VERSION:2.0
PRODID:-//wp-events-plugin.com//7.2.3.1//EN
TZID:America/Chicago
X-WR-TIMEZONE:America/Chicago
BEGIN:VEVENT
UID:382495@hrbuni.com
DTSTART;TZID=America/New_York:20260903T083000
DTEND;TZID=America/New_York:20260903T160000
DTSTAMP:20251218T165016Z
URL:https://hrbuni.com/search/tampa-fl-food-protection-manager-certificati
 on-course-exam-2026-02-05-2026-03-19-2026-04-30-2026-06-11-2026-07-23-2026
 -09-03/
SUMMARY:Tampa\, FL Food Protection Manager Certification Course & Exam
DESCRIPTION:Tampa\, FL Food Protection Manager Certification Course & Exam 
 - Are you a food service professional ready to pass your Food Protection M
 anager Certification exam with absolute confidence? Stay ahead of the curv
 e\, ensure total regulatory compliance\, and master the essential knowledg
 e required for certification with our intensive Food Manager Safety Traini
 ng course.
ATTACH;FMTTYPE=image/jpeg:https://hrbuni.com/wp-content/uploads/2025/07/HR
 BUniversal-No-Line.jpg
CATEGORIES:-- Instructor-Led In-Person Course &amp; Exam,Courses &amp;
 Exams Categories,Food Manager
LOCATION:Tampa\, FL Certification Academy\, HRBUniversal Training Center\, 
 Tampa\, Florida\, United States
GEO:28.132842;-82.369405
X-APPLE-STRUCTURED-LOCATION;VALUE=URI;X-ADDRESS=HRBUniversal Training Cente
 r\, Tampa\, Florida\, United States;X-APPLE-RADIUS=100;X-TITLE=Tampa\, FL 
 Certification Academy:geo:28.132842,-82.369405
END:VEVENT
BEGIN:VTIMEZONE
TZID:America/New_York
X-LIC-LOCATION:America/New_York
BEGIN:DAYLIGHT
DTSTART:20260308T030000
TZOFFSETFROM:-0500
TZOFFSETTO:-0400
TZNAME:EDT
END:DAYLIGHT
END:VTIMEZONE
END:VCALENDAR