BEGIN:VCALENDAR
VERSION:2.0
PRODID:-//wp-events-plugin.com//7.2.3.1//EN
TZID:America/Chicago
X-WR-TIMEZONE:America/Chicago
BEGIN:VEVENT
UID:382899@hrbuni.com
DTSTART;TZID=America/New_York:20260508T083000
DTEND;TZID=America/New_York:20260508T160000
DTSTAMP:20251219T174834Z
URL:https://hrbuni.com/search/tallahassee-fl-responsible-training-food-pro
 tection-manager-exam-course-2-2026-02-13-2026-03-27-2026-05-08/
SUMMARY:Tallahassee\, FL Responsible Training Food Protection Manager Exam 
 & Course
DESCRIPTION:Are you looking to earn your Food Protection Manager Certificat
 ion in Fernandina Beach\, FL? Our Responsible Training program is the prem
 ier choice for local food service professionals.\n\nAs an ANSI-CFP accredi
 ted provider\, we deliver a comprehensive curriculum that blends the most 
 recent FDA Food Code updates with decades of hands-on food sanitation expe
 rtise. Developed by Responsible Training in collaboration with industry le
 aders\, our course is designed to prepare you for real-world safety challe
 nges.
ATTACH;FMTTYPE=image/jpeg:https://hrbuni.com/wp-content/uploads/2023/09/Sc
 reenshot-2024-06-10-at-7.40.56 PM-1.png
CATEGORIES:-- Instructor-Led In-Person Course &amp; Exam,Courses &amp;
 Exams Categories,Food Manager
LOCATION:Tallahassee\, FL Certification Academy\, HRBUniversal Training Cen
 ter\, Tallahassee\, Florida\, United States
GEO:30.440186;-84.28231
X-APPLE-STRUCTURED-LOCATION;VALUE=URI;X-ADDRESS=HRBUniversal Training Cente
 r\, Tallahassee\, Florida\, United States;X-APPLE-RADIUS=100;X-TITLE=Talla
 hassee\, FL Certification Academy:geo:30.440186,-84.28231
END:VEVENT
BEGIN:VTIMEZONE
TZID:America/New_York
X-LIC-LOCATION:America/New_York
BEGIN:DAYLIGHT
DTSTART:20260308T030000
TZOFFSETFROM:-0500
TZOFFSETTO:-0400
TZNAME:EDT
END:DAYLIGHT
END:VTIMEZONE
END:VCALENDAR