BEGIN:VCALENDAR
VERSION:2.0
PRODID:-//wp-events-plugin.com//7.2.3.1//EN
TZID:America/Chicago
X-WR-TIMEZONE:America/Chicago
BEGIN:VEVENT
UID:382443@hrbuni.com
DTSTART;TZID=America/New_York:20260619T083000
DTEND;TZID=America/New_York:20260619T160000
DTSTAMP:20251218T151713Z
URL:https://hrbuni.com/search/tallahassee-fl-food-protection-manager-certi
 fication-course-exam-2026-02-13-2026-03-27-2026-05-08-2026-06-19/
SUMMARY:Tallahassee\, FL Food Protection Manager Certification Course & Exa
 m
DESCRIPTION:Tallahassee\, FL Food Protection Manager Certification Course &
  Exam - Are you a food service professional ready to pass your Food Protec
 tion Manager Certification exam with absolute confidence? Stay ahead of th
 e curve\, ensure total regulatory compliance\, and master the essential kn
 owledge required for certification with our intensive Food Manager Safety 
 Training course.
ATTACH;FMTTYPE=image/jpeg:https://hrbuni.com/wp-content/uploads/2025/07/HR
 BUniversal-No-Line.jpg
CATEGORIES:-- Instructor-Led In-Person Course &amp; Exam,Courses &amp;
 Exams Categories,Food Manager
LOCATION:Tallahassee\, FL Certification Academy\, HRBUniversal Training Cen
 ter\, Tallahassee\, Florida\, United States
GEO:30.440186;-84.28231
X-APPLE-STRUCTURED-LOCATION;VALUE=URI;X-ADDRESS=HRBUniversal Training Cente
 r\, Tallahassee\, Florida\, United States;X-APPLE-RADIUS=100;X-TITLE=Talla
 hassee\, FL Certification Academy:geo:30.440186,-84.28231
END:VEVENT
BEGIN:VTIMEZONE
TZID:America/New_York
X-LIC-LOCATION:America/New_York
BEGIN:DAYLIGHT
DTSTART:20260308T030000
TZOFFSETFROM:-0500
TZOFFSETTO:-0400
TZNAME:EDT
END:DAYLIGHT
END:VTIMEZONE
END:VCALENDAR