BEGIN:VCALENDAR
VERSION:2.0
PRODID:-//wp-events-plugin.com//7.2.3.1//EN
TZID:America/Chicago
X-WR-TIMEZONE:America/Chicago
BEGIN:VEVENT
UID:383344@hrbuni.com
DTSTART;TZID=America/New_York:20260731T083000
DTEND;TZID=America/New_York:20260731T160000
DTSTAMP:20251230T180537Z
URL:https://hrbuni.com/search/tallahassee-fl-fmc-food-managers-certificati
 on-exam-course-2-2026-02-13-2026-03-27-2026-05-08-2026-06-19-2026-07-31/
SUMMARY:Tallahassee\, FL FMC® Food Managers Certification Exam & Course
DESCRIPTION:Tallahassee\, FL FMC® Food Managers Certification Exam & Cours
 e - Professional excellence starts with the right training. HRBUniversal o
 ffers a premier ANAB-accredited FMC® Food Managers Certification program 
 designed to meet the highest industry standards. By combining the latest F
 DA Food Code with decades of hands-on experience\, we prepare you to tackl
 e any food sanitation challenge.
ATTACH;FMTTYPE=image/jpeg:https://hrbuni.com/wp-content/uploads/2024/06/Sc
 reenshot-2024-06-12-at-11.47.05 AM-1.png
CATEGORIES:-- Instructor-Led In-Person Course &amp; Exam,Courses &amp;
 Exams Categories,Food Manager
LOCATION:Tallahassee\, FL Certification Academy\, HRBUniversal Training Cen
 ter\, Tallahassee\, Florida\, United States
GEO:30.440186;-84.28231
X-APPLE-STRUCTURED-LOCATION;VALUE=URI;X-ADDRESS=HRBUniversal Training Cente
 r\, Tallahassee\, Florida\, United States;X-APPLE-RADIUS=100;X-TITLE=Talla
 hassee\, FL Certification Academy:geo:30.440186,-84.28231
END:VEVENT
BEGIN:VTIMEZONE
TZID:America/New_York
X-LIC-LOCATION:America/New_York
BEGIN:DAYLIGHT
DTSTART:20260308T030000
TZOFFSETFROM:-0500
TZOFFSETTO:-0400
TZNAME:EDT
END:DAYLIGHT
END:VTIMEZONE
END:VCALENDAR