BEGIN:VCALENDAR
VERSION:2.0
PRODID:-//wp-events-plugin.com//7.2.3.1//EN
TZID:America/Chicago
X-WR-TIMEZONE:America/Chicago
BEGIN:VEVENT
UID:210663@hrbuni.com
DTSTART;TZID=America/Chicago:20250701T090000
DTEND;TZID=America/Chicago:20260430T150000
DTSTAMP:20250407T200808Z
URL:https://hrbuni.com/search/st-petersburg-fl-sure-haccp-food-safety-mana
 ger-remote-course/
SUMMARY:St. Petersburg\, FL SURE™ HACCP Food Safety Manager Remote Course
DESCRIPTION:The St. Petersburg\, FL  SURE™ HACCP Food Safety Manager Rem
 ote Course is a  Special Processes Retail HACCP session that is approved 
 by the International HACCP Alliance utilizing the SURE™ HACCP Food Safet
 y Manager Program.
ATTACH;FMTTYPE=image/jpeg:https://hrbuni.com/wp-content/uploads/2024/11/Ma
 nagerHACCP.jpg
CATEGORIES:-- Instructor-Led Remote Course &amp; Exam,Courses &amp; Exams
 Categories,HACCP
LOCATION:St. Petersburg\, FL Certification Academy\, HRBUniversal Training 
 Center\, St. Petersburg\, Florida\, 33174\, United States
GEO:27.8223929;-82.6625919
X-APPLE-STRUCTURED-LOCATION;VALUE=URI;X-ADDRESS=HRBUniversal Training Cente
 r\, St. Petersburg\, Florida\, 33174\, United States;X-APPLE-RADIUS=100;X-
 TITLE=St. Petersburg\, FL Certification Academy:geo:27.8223929,-82.6625919
END:VEVENT
BEGIN:VTIMEZONE
TZID:America/Chicago
X-LIC-LOCATION:America/Chicago
BEGIN:DAYLIGHT
DTSTART:20250309T030000
TZOFFSETFROM:-0600
TZOFFSETTO:-0500
TZNAME:CDT
END:DAYLIGHT
BEGIN:STANDARD
DTSTART:20251102T010000
TZOFFSETFROM:-0500
TZOFFSETTO:-0600
TZNAME:CST
END:STANDARD
BEGIN:DAYLIGHT
DTSTART:20260308T030000
TZOFFSETFROM:-0600
TZOFFSETTO:-0500
TZNAME:CDT
END:DAYLIGHT
END:VTIMEZONE
END:VCALENDAR