BEGIN:VCALENDAR
VERSION:2.0
PRODID:-//wp-events-plugin.com//7.2.3.1//EN
TZID:America/Chicago
X-WR-TIMEZONE:America/Chicago
BEGIN:VEVENT
UID:382782@hrbuni.com
DTSTART;TZID=America/New_York:20260430T083000
DTEND;TZID=America/New_York:20260430T160000
DTSTAMP:20251219T145818Z
URL:https://hrbuni.com/search/st-petersburg-fl-responsible-training-food-p
 rotection-manager-exam-course-2026-02-05-2026-03-19-2026-04-30/
SUMMARY:St. Petersburg\, FL Responsible Training Food Protection Manager Ex
 am & Course
DESCRIPTION:St. Petersburg\, FL Responsible Training Food Protection Manage
 r Exam & Course - Are you looking to earn your Food Protection Manager Cer
 tification in St. Petersburg\, FL? Our Responsible Training program is the
  premier choice for local food service professionals. As an ANSI-CFP accre
 dited provider\, we deliver a comprehensive curriculum that blends the mos
 t recent FDA Food Code updates with decades of hands-on food sanitation ex
 pertise. Developed by Responsible Training in collaboration with industry 
 leaders\, our course is designed to prepare you for real-world safety chal
 lenges.
ATTACH;FMTTYPE=image/jpeg:https://hrbuni.com/wp-content/uploads/2023/09/Sc
 reenshot-2024-06-10-at-7.40.56 PM-1.png
CATEGORIES:-- Instructor-Led In-Person Course &amp; Exam,Courses &amp;
 Exams Categories,Food Manager
LOCATION:St. Petersburg\, FL Certification Academy\, HRBUniversal Training 
 Center\, St. Petersburg\, Florida\, 33174\, United States
GEO:27.8223929;-82.6625919
X-APPLE-STRUCTURED-LOCATION;VALUE=URI;X-ADDRESS=HRBUniversal Training Cente
 r\, St. Petersburg\, Florida\, 33174\, United States;X-APPLE-RADIUS=100;X-
 TITLE=St. Petersburg\, FL Certification Academy:geo:27.8223929,-82.6625919
END:VEVENT
BEGIN:VTIMEZONE
TZID:America/New_York
X-LIC-LOCATION:America/New_York
BEGIN:DAYLIGHT
DTSTART:20260308T030000
TZOFFSETFROM:-0500
TZOFFSETTO:-0400
TZNAME:EDT
END:DAYLIGHT
END:VTIMEZONE
END:VCALENDAR