BEGIN:VCALENDAR
VERSION:2.0
PRODID:-//wp-events-plugin.com//7.2.3.1//EN
TZID:America/Chicago
X-WR-TIMEZONE:America/Chicago
BEGIN:VEVENT
UID:382331@hrbuni.com
DTSTART;TZID=America/New_York:20261015T083000
DTEND;TZID=America/New_York:20261015T160000
DTSTAMP:20251215T222532Z
URL:https://hrbuni.com/search/st-petersburg-fl-protection-manager-certific
 ation-course-exam-2026-02-05-2026-03-19-2026-04-30-2026-06-11-2026-07-23-2
 026-09-03-2026-10-15/
SUMMARY:St. Petersburg\, FL Protection Manager Certification Course & Exam
DESCRIPTION:St. Petersburg\, FL Protection Manager Certification Course & E
 xam - Are you a food service professional ready to pass your Food Protecti
 on Manager Certification exam with absolute confidence? Stay ahead of the 
 curve\, ensure total regulatory compliance\, and master the essential know
 ledge required for certification with our intensive Food Manager Safety Tr
 aining course.
ATTACH;FMTTYPE=image/jpeg:https://hrbuni.com/wp-content/uploads/2025/07/HR
 BUniversal-No-Line.jpg
CATEGORIES:-- Instructor-Led In-Person Course &amp; Exam,Courses &amp;
 Exams Categories,Food Manager
LOCATION:St. Petersburg\, FL Certification Academy\, HRBUniversal Training 
 Center\, St. Petersburg\, Florida\, 33174\, United States
GEO:27.8223929;-82.6625919
X-APPLE-STRUCTURED-LOCATION;VALUE=URI;X-ADDRESS=HRBUniversal Training Cente
 r\, St. Petersburg\, Florida\, 33174\, United States;X-APPLE-RADIUS=100;X-
 TITLE=St. Petersburg\, FL Certification Academy:geo:27.8223929,-82.6625919
END:VEVENT
BEGIN:VTIMEZONE
TZID:America/New_York
X-LIC-LOCATION:America/New_York
BEGIN:DAYLIGHT
DTSTART:20260308T030000
TZOFFSETFROM:-0500
TZOFFSETTO:-0400
TZNAME:EDT
END:DAYLIGHT
END:VTIMEZONE
END:VCALENDAR