BEGIN:VCALENDAR
VERSION:2.0
PRODID:-//wp-events-plugin.com//7.2.3.1//EN
TZID:America/Chicago
X-WR-TIMEZONE:America/Chicago
BEGIN:VEVENT
UID:383239@hrbuni.com
DTSTART;TZID=America/New_York:20261126T083000
DTEND;TZID=America/New_York:20261126T160000
DTSTAMP:20251229T230433Z
URL:https://hrbuni.com/search/st-petersburg-fl-fmc-food-managers-certifica
 tion-exam-course-2026-02-05-2026-03-19-2026-04-30-2026-06-11-2026-07-23-20
 26-09-03-2026-10-15-2026-11-26/
SUMMARY:St. Petersburg\, FL FMC® Food Managers Certification Exam & Course
DESCRIPTION:St. Petersburg\, FL FMC® Food Managers Certification Exam & Co
 urse - Professional excellence starts with the right training. HRBUniversa
 l offers a premier ANAB-accredited FMC® Food Managers Certification progr
 am designed to meet the highest industry standards. By combining the lates
 t FDA Food Code with decades of hands-on experience\, we prepare you to ta
 ckle any food sanitation challenge.
ATTACH;FMTTYPE=image/jpeg:https://hrbuni.com/wp-content/uploads/2024/06/Sc
 reenshot-2024-06-12-at-11.47.05 AM-1.png
CATEGORIES:-- Instructor-Led In-Person Course &amp; Exam,Courses &amp;
 Exams Categories,Food Manager
LOCATION:St. Petersburg\, FL Certification Academy\, HRBUniversal Training 
 Center\, St. Petersburg\, Florida\, 33174\, United States
GEO:27.8223929;-82.6625919
X-APPLE-STRUCTURED-LOCATION;VALUE=URI;X-ADDRESS=HRBUniversal Training Cente
 r\, St. Petersburg\, Florida\, 33174\, United States;X-APPLE-RADIUS=100;X-
 TITLE=St. Petersburg\, FL Certification Academy:geo:27.8223929,-82.6625919
END:VEVENT
BEGIN:VTIMEZONE
TZID:America/New_York
X-LIC-LOCATION:America/New_York
BEGIN:STANDARD
DTSTART:20261101T010000
TZOFFSETFROM:-0400
TZOFFSETTO:-0500
TZNAME:EST
END:STANDARD
END:VTIMEZONE
END:VCALENDAR