BEGIN:VCALENDAR
VERSION:2.0
PRODID:-//wp-events-plugin.com//7.2.3.1//EN
TZID:America/Chicago
X-WR-TIMEZONE:America/Chicago
BEGIN:VEVENT
UID:382872@hrbuni.com
DTSTART;TZID=America/New_York:20260507T083000
DTEND;TZID=America/New_York:20260507T160000
DTSTAMP:20251219T172623Z
URL:https://hrbuni.com/search/st-augustine-fl-responsible-training-food-pr
 otection-manager-exam-course-2026-02-12-2026-03-26-2026-05-07/
SUMMARY:St. Augustine\, FL Responsible Training Food Protection Manager Exa
 m & Course
DESCRIPTION:St. Augustine\, FL Responsible Training Food Protection Manager
  Exam & Course - Are you looking to earn your Food Protection Manager Cert
 ification in St. Augustine\, FL? Our Responsible Training program is the p
 remier choice for local food service professionals. As an ANSI-CFP accredi
 ted provider\, we deliver a comprehensive curriculum that blends the most 
 recent FDA Food Code updates with decades of hands-on food sanitation expe
 rtise. Developed by Responsible Training in collaboration with industry le
 aders\, our course is designed to prepare you for real-world safety challe
 nges.
ATTACH;FMTTYPE=image/jpeg:https://hrbuni.com/wp-content/uploads/2023/09/Sc
 reenshot-2024-06-10-at-7.40.56 PM-1.png
CATEGORIES:-- Instructor-Led In-Person Course &amp; Exam,Courses &amp;
 Exams Categories,Food Manager
LOCATION:St. Augustine\, FL Certification Academy\, HRBUniversal Training C
 enter\, St. Augustine\, Florida\, United States
GEO:29.892184;-81.313931
X-APPLE-STRUCTURED-LOCATION;VALUE=URI;X-ADDRESS=HRBUniversal Training Cente
 r\, St. Augustine\, Florida\, United States;X-APPLE-RADIUS=100;X-TITLE=St.
  Augustine\, FL Certification Academy:geo:29.892184,-81.313931
END:VEVENT
BEGIN:VTIMEZONE
TZID:America/New_York
X-LIC-LOCATION:America/New_York
BEGIN:DAYLIGHT
DTSTART:20260308T030000
TZOFFSETFROM:-0500
TZOFFSETTO:-0400
TZNAME:EDT
END:DAYLIGHT
END:VTIMEZONE
END:VCALENDAR