BEGIN:VCALENDAR
VERSION:2.0
PRODID:-//wp-events-plugin.com//7.2.3.1//EN
TZID:America/Chicago
X-WR-TIMEZONE:America/Chicago
BEGIN:VEVENT
UID:382417@hrbuni.com
DTSTART;TZID=America/New_York:20260730T083000
DTEND;TZID=America/New_York:20260730T160000
DTSTAMP:20251218T145006Z
URL:https://hrbuni.com/search/st-augustine-fl-food-protection-manager-cert
 ification-course-exam-2026-02-12-2026-03-26-2026-05-07-2026-06-18-2026-07-
 30/
SUMMARY:St. Augustine\, FL Food Protection Manager Certification Course & E
 xam
DESCRIPTION:St. Augustine\, FL Food Protection Manager Certification Course
  & Exam - Are you a food service professional ready to pass your Food Prot
 ection Manager Certification exam with absolute confidence? Stay ahead of 
 the curve\, ensure total regulatory compliance\, and master the essential 
 knowledge required for certification with our intensive Food Manager Safet
 y Training course.
ATTACH;FMTTYPE=image/jpeg:https://hrbuni.com/wp-content/uploads/2025/07/HR
 BUniversal-No-Line.jpg
CATEGORIES:-- Instructor-Led In-Person Course &amp; Exam,Courses &amp;
 Exams Categories,Food Manager
LOCATION:St. Augustine\, FL Certification Academy\, HRBUniversal Training C
 enter\, St. Augustine\, Florida\, United States
GEO:29.892184;-81.313931
X-APPLE-STRUCTURED-LOCATION;VALUE=URI;X-ADDRESS=HRBUniversal Training Cente
 r\, St. Augustine\, Florida\, United States;X-APPLE-RADIUS=100;X-TITLE=St.
  Augustine\, FL Certification Academy:geo:29.892184,-81.313931
END:VEVENT
BEGIN:VTIMEZONE
TZID:America/New_York
X-LIC-LOCATION:America/New_York
BEGIN:DAYLIGHT
DTSTART:20260308T030000
TZOFFSETFROM:-0500
TZOFFSETTO:-0400
TZNAME:EDT
END:DAYLIGHT
END:VTIMEZONE
END:VCALENDAR