BEGIN:VCALENDAR
VERSION:2.0
PRODID:-//wp-events-plugin.com//7.2.3.1//EN
TZID:America/Chicago
X-WR-TIMEZONE:America/Chicago
BEGIN:VEVENT
UID:382420@hrbuni.com
DTSTART;TZID=America/New_York:20261203T083000
DTEND;TZID=America/New_York:20261203T160000
DTSTAMP:20251218T145011Z
URL:https://hrbuni.com/search/st-augustine-fl-food-protection-manager-cert
 ification-course-exam-2026-02-12-2026-03-26-2026-05-07-2026-06-18-2026-07-
 30-2026-09-10-2026-10-22-2026-12-03/
SUMMARY:St. Augustine\, FL Food Protection Manager Certification Course & E
 xam
DESCRIPTION:St. Augustine\, FL Food Protection Manager Certification Course
  & Exam - Are you a food service professional ready to pass your Food Prot
 ection Manager Certification exam with absolute confidence? Stay ahead of 
 the curve\, ensure total regulatory compliance\, and master the essential 
 knowledge required for certification with our intensive Food Manager Safet
 y Training course.
ATTACH;FMTTYPE=image/jpeg:https://hrbuni.com/wp-content/uploads/2025/07/HR
 BUniversal-No-Line.jpg
CATEGORIES:-- Instructor-Led In-Person Course &amp; Exam,Courses &amp;
 Exams Categories,Food Manager
LOCATION:St. Augustine\, FL Certification Academy\, HRBUniversal Training C
 enter\, St. Augustine\, Florida\, United States
GEO:29.892184;-81.313931
X-APPLE-STRUCTURED-LOCATION;VALUE=URI;X-ADDRESS=HRBUniversal Training Cente
 r\, St. Augustine\, Florida\, United States;X-APPLE-RADIUS=100;X-TITLE=St.
  Augustine\, FL Certification Academy:geo:29.892184,-81.313931
END:VEVENT
BEGIN:VTIMEZONE
TZID:America/New_York
X-LIC-LOCATION:America/New_York
BEGIN:STANDARD
DTSTART:20261101T010000
TZOFFSETFROM:-0400
TZOFFSETTO:-0500
TZNAME:EST
END:STANDARD
END:VTIMEZONE
END:VCALENDAR