BEGIN:VCALENDAR
VERSION:2.0
PRODID:-//wp-events-plugin.com//7.2.3.1//EN
TZID:America/Chicago
X-WR-TIMEZONE:America/Chicago
BEGIN:VEVENT
UID:210661@hrbuni.com
DTSTART;TZID=America/Chicago:20250701T090000
DTEND;TZID=America/Chicago:20260430T150000
DTSTAMP:20250407T200804Z
URL:https://hrbuni.com/search/st-augustine-beach-fl-sure-haccp-food-safety
 -manager-remote-course/
SUMMARY:St. Augustine Beach\, FL SURE™ HACCP Food Safety Manager Remote C
 ourse
DESCRIPTION:The St. Augustine Beach\, FL  SURE™ HACCP Food Safety Manage
 r Remote Course is a  Special Processes Retail HACCP session that is appr
 oved by the International HACCP Alliance utilizing the SURE™ HACCP Food 
 Safety Manager Program.
ATTACH;FMTTYPE=image/jpeg:https://hrbuni.com/wp-content/uploads/2024/11/Ma
 nagerHACCP.jpg
CATEGORIES:-- Instructor-Led Remote Course &amp; Exam,Courses &amp; Exams
 Categories,HACCP
LOCATION:St. Augustine Beach\, FL Certification Academy\, HRBUniversal Trai
 ning Center\, St. Augustine Beach\, Florida\, United States
GEO:29.858326;-81.266693
X-APPLE-STRUCTURED-LOCATION;VALUE=URI;X-ADDRESS=HRBUniversal Training Cente
 r\, St. Augustine Beach\, Florida\, United States;X-APPLE-RADIUS=100;X-TIT
 LE=St. Augustine Beach\, FL Certification Academy:geo:29.858326,-81.266693
END:VEVENT
BEGIN:VTIMEZONE
TZID:America/Chicago
X-LIC-LOCATION:America/Chicago
BEGIN:DAYLIGHT
DTSTART:20250309T030000
TZOFFSETFROM:-0600
TZOFFSETTO:-0500
TZNAME:CDT
END:DAYLIGHT
BEGIN:STANDARD
DTSTART:20251102T010000
TZOFFSETFROM:-0500
TZOFFSETTO:-0600
TZNAME:CST
END:STANDARD
BEGIN:DAYLIGHT
DTSTART:20260308T030000
TZOFFSETFROM:-0600
TZOFFSETTO:-0500
TZNAME:CDT
END:DAYLIGHT
END:VTIMEZONE
END:VCALENDAR