BEGIN:VCALENDAR
VERSION:2.0
PRODID:-//wp-events-plugin.com//7.2.3.1//EN
TZID:America/Chicago
X-WR-TIMEZONE:America/Chicago
BEGIN:VEVENT
UID:382479@hrbuni.com
DTSTART;TZID=America/New_York:20261007T083000
DTEND;TZID=America/New_York:20261007T160000
DTSTAMP:20251218T161036Z
URL:https://hrbuni.com/search/spartanburg-sc-food-protection-manager-certi
 fication-course-exam-2026-10-07/
SUMMARY:Spartanburg\, SC Food Protection Manager Certification Course & Exa
 m
DESCRIPTION:Spartanburg\, SC Food Protection Manager Certification Course &
  Exam - Are you a food service professional ready to pass your Food Protec
 tion Manager Certification exam with absolute confidence? Stay ahead of th
 e curve\, ensure total regulatory compliance\, and master the essential kn
 owledge required for certification with our intensive Food Manager Safety 
 Training course.
ATTACH;FMTTYPE=image/jpeg:https://hrbuni.com/wp-content/uploads/2025/07/HR
 BUniversal-No-Line.jpg
CATEGORIES:-- Instructor-Led In-Person Course &amp; Exam,Courses &amp;
 Exams Categories,Food Manager
LOCATION:Spartanburg\, SC Certification Academy\, HRBUniversal Training Cen
 ter\, Spartanburg\, South Carolina\, 29316\, United States
GEO:35.013667;-81.956955
X-APPLE-STRUCTURED-LOCATION;VALUE=URI;X-ADDRESS=HRBUniversal Training Cente
 r\, Spartanburg\, South Carolina\, 29316\, United States;X-APPLE-RADIUS=10
 0;X-TITLE=Spartanburg\, SC Certification Academy:geo:35.013667,-81.956955
END:VEVENT
BEGIN:VTIMEZONE
TZID:America/New_York
X-LIC-LOCATION:America/New_York
BEGIN:DAYLIGHT
DTSTART:20260308T030000
TZOFFSETFROM:-0500
TZOFFSETTO:-0400
TZNAME:EDT
END:DAYLIGHT
END:VTIMEZONE
END:VCALENDAR