BEGIN:VCALENDAR
VERSION:2.0
PRODID:-//wp-events-plugin.com//7.2.3.1//EN
TZID:America/Chicago
X-WR-TIMEZONE:America/Chicago
BEGIN:VEVENT
UID:383377@hrbuni.com
DTSTART;TZID=America/New_York:20261230T083000
DTEND;TZID=America/New_York:20261230T160000
DTSTAMP:20251230T184022Z
URL:https://hrbuni.com/search/spartanburg-sc-fmc-food-managers-certificati
 on-exam-course-2026-04-22-2026-07-15-2026-10-07-2026-12-30/
SUMMARY:Spartanburg\, SC FMC® Food Managers Certification Exam & Course
DESCRIPTION:Spartanburg\, SC FMC® Food Managers Certification Exam & Cours
 e - Professional excellence starts with the right training. HRBUniversal o
 ffers a premier ANAB-accredited FMC® Food Managers Certification program 
 designed to meet the highest industry standards. By combining the latest F
 DA Food Code with decades of hands-on experience\, we prepare you to tackl
 e any food sanitation challenge.
ATTACH;FMTTYPE=image/jpeg:https://hrbuni.com/wp-content/uploads/2024/06/Sc
 reenshot-2024-06-12-at-11.47.05 AM-1.png
CATEGORIES:-- Instructor-Led In-Person Course &amp; Exam,Courses &amp;
 Exams Categories,Food Manager
LOCATION:Spartanburg\, SC Certification Academy\, HRBUniversal Training Cen
 ter\, Spartanburg\, South Carolina\, 29316\, United States
GEO:35.013667;-81.956955
X-APPLE-STRUCTURED-LOCATION;VALUE=URI;X-ADDRESS=HRBUniversal Training Cente
 r\, Spartanburg\, South Carolina\, 29316\, United States;X-APPLE-RADIUS=10
 0;X-TITLE=Spartanburg\, SC Certification Academy:geo:35.013667,-81.956955
END:VEVENT
BEGIN:VTIMEZONE
TZID:America/New_York
X-LIC-LOCATION:America/New_York
BEGIN:STANDARD
DTSTART:20261101T010000
TZOFFSETFROM:-0400
TZOFFSETTO:-0500
TZNAME:EST
END:STANDARD
END:VTIMEZONE
END:VCALENDAR