BEGIN:VCALENDAR
VERSION:2.0
PRODID:-//wp-events-plugin.com//7.2.3.1//EN
TZID:America/Chicago
X-WR-TIMEZONE:America/Chicago
BEGIN:VEVENT
UID:383688@hrbuni.com
DTSTART;TZID=America/New_York:20261016T083000
DTEND;TZID=America/New_York:20261016T160000
DTSTAMP:20260122T181617Z
URL:https://hrbuni.com/search/sarasota-fl-servsafe-food-protection-manager
 -exam-course-2026-10-16/
SUMMARY:Bradenton\, FL ServSafe® Food Protection Manager Exam & Course
DESCRIPTION:Bradenton\, FL ServSafe® Food Protection Manager Exam & Course
  - Looking for a trusted ServSafe® Food Protection Manager Certification 
 program in Bradenton\, FL? Look no further. Our comprehensive training is 
 accredited by the American National Standards Institute (ANSI)-Conference 
 for Food Protection (CFP)\, ensuring you receive a credential that meets t
 he highest standards.
ATTACH;FMTTYPE=image/jpeg:https://hrbuni.com/wp-content/uploads/2024/07/Se
 rvSafeProct.fw_-300x200-1.jpg
CATEGORIES:-- Instructor-Led In-Person Course &amp; Exam,Courses &amp;
 Exams Categories,Food Manager
LOCATION:Bradenton\, FL ServSafe® & NRA Certification Programs\, HRBUniver
 sal Training Center\, Bradenton\, Florida\, 34232\, United States
GEO:27.270513;-82.457128
X-APPLE-STRUCTURED-LOCATION;VALUE=URI;X-ADDRESS=HRBUniversal Training Cente
 r\, Bradenton\, Florida\, 34232\, United States;X-APPLE-RADIUS=100;X-TITLE
 =Bradenton\, FL ServSafe® & NRA Certification Programs:geo:27.270513,-82.
 457128
END:VEVENT
BEGIN:VTIMEZONE
TZID:America/New_York
X-LIC-LOCATION:America/New_York
BEGIN:DAYLIGHT
DTSTART:20260308T030000
TZOFFSETFROM:-0500
TZOFFSETTO:-0400
TZNAME:EDT
END:DAYLIGHT
END:VTIMEZONE
END:VCALENDAR