BEGIN:VCALENDAR
VERSION:2.0
PRODID:-//wp-events-plugin.com//7.2.3.1//EN
TZID:America/Chicago
X-WR-TIMEZONE:America/Chicago
BEGIN:VEVENT
UID:210220@hrbuni.com
DTSTART;TZID=America/Chicago:20250701T090000
DTEND;TZID=America/Chicago:20260430T150000
DTSTAMP:20250403T205318Z
URL:https://hrbuni.com/search/prattville-al-sure-haccp-food-safety-manager
 -remote-course/
SUMMARY:Prattville\, AL SURE™ HACCP Food Safety Manager Remote Course
DESCRIPTION:The Prattville\, AL  SURE™ HACCP Food Safety Manager Remote 
 Course is a  Special Processes Retail HACCP session that is approved by t
 he International HACCP Alliance utilizing the SURE™ HACCP Food Safety Ma
 nager Program.
ATTACH;FMTTYPE=image/jpeg:https://hrbuni.com/wp-content/uploads/2024/11/Ma
 nagerHACCP.jpg
CATEGORIES:-- Instructor-Led Remote Course &amp; Exam,Courses &amp; Exams
 Categories,HACCP
LOCATION:Prattville\, AL Certification Academy\, HRBUniversal Training Cent
 er\, Prattville\, Alabama\, 36066\, United States
GEO:32.4551971;-86.40046009999998
X-APPLE-STRUCTURED-LOCATION;VALUE=URI;X-ADDRESS=HRBUniversal Training Cente
 r\, Prattville\, Alabama\, 36066\, United States;X-APPLE-RADIUS=100;X-TITL
 E=Prattville\, AL Certification Academy:geo:32.4551971,-86.40046009999998
END:VEVENT
BEGIN:VTIMEZONE
TZID:America/Chicago
X-LIC-LOCATION:America/Chicago
BEGIN:DAYLIGHT
DTSTART:20250309T030000
TZOFFSETFROM:-0600
TZOFFSETTO:-0500
TZNAME:CDT
END:DAYLIGHT
BEGIN:STANDARD
DTSTART:20251102T010000
TZOFFSETFROM:-0500
TZOFFSETTO:-0600
TZNAME:CST
END:STANDARD
BEGIN:DAYLIGHT
DTSTART:20260308T030000
TZOFFSETFROM:-0600
TZOFFSETTO:-0500
TZNAME:CDT
END:DAYLIGHT
END:VTIMEZONE
END:VCALENDAR