BEGIN:VCALENDAR
VERSION:2.0
PRODID:-//wp-events-plugin.com//7.2.3.1//EN
TZID:America/Chicago
X-WR-TIMEZONE:America/Chicago
BEGIN:VEVENT
UID:383644@hrbuni.com
DTSTART;TZID=America/New_York:20261124T083000
DTEND;TZID=America/New_York:20261124T160000
DTSTAMP:20260122T174234Z
URL:https://hrbuni.com/search/panama-city-beach-fl-servsafe-food-protectio
 n-manager-exam-course-2-2026-02-03-2026-03-17-2026-04-28-2026-06-09-2026-0
 7-21-2026-09-01-2026-10-13-2026-11-24/
SUMMARY:Panama City Beach\, FL ServSafe® Food Protection Manager Exam & Co
 urse
DESCRIPTION:Panama City Beach\, FL ServSafe® Food Protection Manager Exam 
 & Course - Looking for a trusted ServSafe® Food Protection Manager Certif
 ication program in Panama City Beach\, FL? Look no further. Our comprehens
 ive training is accredited by the American National Standards Institute (A
 NSI)-Conference for Food Protection (CFP)\, ensuring you receive a credent
 ial that meets the highest standards.
ATTACH;FMTTYPE=image/jpeg:https://hrbuni.com/wp-content/uploads/2024/07/Se
 rvSafeProct.fw_-300x200-1.jpg
CATEGORIES:-- Instructor-Led In-Person Course &amp; Exam,Courses &amp;
 Exams Categories,Food Manager
LOCATION:Panama City\, FL ServSafe® & NRA Certification Programs\, HRBUniv
 ersal Training Center\, Panama City \, Florida\, 32404\, United States
GEO:30.197369;-85.499419
X-APPLE-STRUCTURED-LOCATION;VALUE=URI;X-ADDRESS=HRBUniversal Training Cente
 r\, Panama City \, Florida\, 32404\, United States;X-APPLE-RADIUS=100;X-TI
 TLE=Panama City\, FL ServSafe® & NRA Certification Programs:geo:30.197369
 ,-85.499419
END:VEVENT
BEGIN:VTIMEZONE
TZID:America/New_York
X-LIC-LOCATION:America/New_York
BEGIN:STANDARD
DTSTART:20261101T010000
TZOFFSETFROM:-0400
TZOFFSETTO:-0500
TZNAME:EST
END:STANDARD
END:VTIMEZONE
END:VCALENDAR