BEGIN:VCALENDAR
VERSION:2.0
PRODID:-//wp-events-plugin.com//7.2.3.1//EN
TZID:America/Chicago
X-WR-TIMEZONE:America/Chicago
BEGIN:VEVENT
UID:382749@hrbuni.com
DTSTART;TZID=America/Chicago:20260901T083000
DTEND;TZID=America/Chicago:20260901T160000
DTSTAMP:20251219T142657Z
URL:https://hrbuni.com/search/panama-city-beach-fl-responsible-training-fo
 od-protection-manager-exam-course-2-2026-02-03-2026-03-17-2026-04-28-2026-
 06-09-2026-07-21-2026-09-01/
SUMMARY:Panama City Beach\, FL Responsible Training Food Protection Manager
  Exam & Course
DESCRIPTION:Panama City Beach\, FL Responsible Training Food Protection Man
 ager Exam & Course - Are you looking to earn your Food Protection Manager 
 Certification in Panama City Beach\, FL? Our Responsible Training program 
 is the premier choice for local food service professionals. As an ANSI-CFP
  accredited provider\, we deliver a comprehensive curriculum that blends t
 he most recent FDA Food Code updates with decades of hands-on food sanitat
 ion expertise. Developed by Responsible Training in collaboration with ind
 ustry leaders\, our course is designed to prepare you for real-world safet
 y challenges.
ATTACH;FMTTYPE=image/jpeg:https://hrbuni.com/wp-content/uploads/2023/09/Sc
 reenshot-2024-06-10-at-7.40.56 PM-1.png
CATEGORIES:-- Instructor-Led In-Person Course &amp; Exam,Courses &amp;
 Exams Categories,Food Manager
LOCATION:Panama City Beach\, FL Certification Academy\, HRBUniversal Traini
 ng Center\, Panama City Beach\, Florida\, United States
GEO:30.176591;-85.805488
X-APPLE-STRUCTURED-LOCATION;VALUE=URI;X-ADDRESS=HRBUniversal Training Cente
 r\, Panama City Beach\, Florida\, United States;X-APPLE-RADIUS=100;X-TITLE
 =Panama City Beach\, FL Certification Academy:geo:30.176591,-85.805488
END:VEVENT
BEGIN:VTIMEZONE
TZID:America/Chicago
X-LIC-LOCATION:America/Chicago
BEGIN:DAYLIGHT
DTSTART:20260308T030000
TZOFFSETFROM:-0600
TZOFFSETTO:-0500
TZNAME:CDT
END:DAYLIGHT
END:VTIMEZONE
END:VCALENDAR