BEGIN:VCALENDAR
VERSION:2.0
PRODID:-//wp-events-plugin.com//7.2.3.1//EN
TZID:America/Chicago
X-WR-TIMEZONE:America/Chicago
BEGIN:VEVENT
UID:382295@hrbuni.com
DTSTART;TZID=America/Chicago:20261124T083000
DTEND;TZID=America/Chicago:20261124T160000
DTSTAMP:20251215T215101Z
URL:https://hrbuni.com/search/panama-city-beach-fl-food-protection-manager
 -certification-course-exam-2026-02-03-2026-03-17-2026-04-28-2026-06-09-202
 6-07-21-2026-09-01-2026-10-13-2026-11-24/
SUMMARY:Panama City Beach\, FL Food Protection Manager Certification Course
  & Exam
DESCRIPTION:Panama City Beach\, FL Food Protection Manager Certification Co
 urse & Exam - Are you a food service professional ready to pass your Food 
 Protection Manager Certification exam with absolute confidence? Stay ahead
  of the curve\, ensure total regulatory compliance\, and master the essent
 ial knowledge required for certification with our intensive Food Manager S
 afety Training course.
ATTACH;FMTTYPE=image/jpeg:https://hrbuni.com/wp-content/uploads/2025/07/HR
 BUniversal-No-Line.jpg
CATEGORIES:-- Instructor-Led In-Person Course &amp; Exam,Courses &amp;
 Exams Categories,Food Manager
LOCATION:Panama City Beach\, FL Certification Academy\, HRBUniversal Traini
 ng Center\, Panama City Beach\, Florida\, United States
GEO:30.176591;-85.805488
X-APPLE-STRUCTURED-LOCATION;VALUE=URI;X-ADDRESS=HRBUniversal Training Cente
 r\, Panama City Beach\, Florida\, United States;X-APPLE-RADIUS=100;X-TITLE
 =Panama City Beach\, FL Certification Academy:geo:30.176591,-85.805488
END:VEVENT
BEGIN:VTIMEZONE
TZID:America/Chicago
X-LIC-LOCATION:America/Chicago
BEGIN:STANDARD
DTSTART:20261101T010000
TZOFFSETFROM:-0500
TZOFFSETTO:-0600
TZNAME:CST
END:STANDARD
END:VTIMEZONE
END:VCALENDAR