BEGIN:VCALENDAR
VERSION:2.0
PRODID:-//wp-events-plugin.com//7.2.3.1//EN
TZID:America/Chicago
X-WR-TIMEZONE:America/Chicago
BEGIN:VEVENT
UID:383192@hrbuni.com
DTSTART;TZID=America/Chicago:20261013T083000
DTEND;TZID=America/Chicago:20261013T160000
DTSTAMP:20251229T224303Z
URL:https://hrbuni.com/search/panama-city-beach-fl-fmc-food-managers-certi
 fication-exam-course-2-2026-02-03-2026-03-17-2026-04-28-2026-06-09-2026-07
 -21-2026-09-01-2026-10-13/
SUMMARY:Panama City Beach\, FL FMC® Food Managers Certification Exam & Cou
 rse
DESCRIPTION:Panama City Beach\, FL FMC® Food Managers Certification Exam &
  Course - Professional excellence starts with the right training. HRBUnive
 rsal offers a premier ANAB-accredited FMC® Food Managers Certification pr
 ogram designed to meet the highest industry standards. By combining the la
 test FDA Food Code with decades of hands-on experience\, we prepare you to
  tackle any food sanitation challenge.
ATTACH;FMTTYPE=image/jpeg:https://hrbuni.com/wp-content/uploads/2024/06/Sc
 reenshot-2024-06-12-at-11.47.05 AM-1.png
CATEGORIES:-- Instructor-Led In-Person Course &amp; Exam,Courses &amp;
 Exams Categories,Food Manager
LOCATION:Panama City Beach\, FL Certification Academy\, HRBUniversal Traini
 ng Center\, Panama City Beach\, Florida\, United States
GEO:30.176591;-85.805488
X-APPLE-STRUCTURED-LOCATION;VALUE=URI;X-ADDRESS=HRBUniversal Training Cente
 r\, Panama City Beach\, Florida\, United States;X-APPLE-RADIUS=100;X-TITLE
 =Panama City Beach\, FL Certification Academy:geo:30.176591,-85.805488
END:VEVENT
BEGIN:VTIMEZONE
TZID:America/Chicago
X-LIC-LOCATION:America/Chicago
BEGIN:DAYLIGHT
DTSTART:20260308T030000
TZOFFSETFROM:-0600
TZOFFSETTO:-0500
TZNAME:CDT
END:DAYLIGHT
END:VTIMEZONE
END:VCALENDAR