BEGIN:VCALENDAR
VERSION:2.0
PRODID:-//wp-events-plugin.com//7.2.3.1//EN
TZID:America/Chicago
X-WR-TIMEZONE:America/Chicago
BEGIN:VEVENT
UID:382615@hrbuni.com
DTSTART;TZID=America/Chicago:20261105T083000
DTEND;TZID=America/Chicago:20261105T160000
DTSTAMP:20251218T211854Z
URL:https://hrbuni.com/search/ocean-springs-ms-responsible-training-food-p
 rotection-manager-exam-course-2026-01-15-2026-02-26-2026-04-09-2026-05-21-
 2026-07-02-2026-08-13-2026-09-24-2026-11-05/
SUMMARY:Ocean Springs\, MS Responsible Training Food Protection Manager Exa
 m & Course
DESCRIPTION:Ocean Springs\, MS Responsible Training Food Protection Manager
  Exam & Course - Are you looking to earn your Food Protection Manager Cert
 ification in Ocean Springs\, MS ? Our Responsible Training program is the 
 premier choice for local food service professionals. As an ANSI-CFP accred
 ited provider\, we deliver a comprehensive curriculum that blends the most
  recent FDA Food Code updates with decades of hands-on food sanitation exp
 ertise. Developed by Responsible Training in collaboration with industry l
 eaders\, our course is designed to prepare you for real-world safety chall
 enges.
ATTACH;FMTTYPE=image/jpeg:https://hrbuni.com/wp-content/uploads/2023/09/Sc
 reenshot-2024-06-10-at-7.40.56 PM-1.png
CATEGORIES:-- Instructor-Led In-Person Course &amp; Exam,Courses &amp;
 Exams Categories,Food Manager
LOCATION:Ocean Springs\, MS Certification Academy\, HRBUniversal Training C
 enter\, Ocean Springs\, Mississippi\, United States
GEO:30.41131;-88.827806
X-APPLE-STRUCTURED-LOCATION;VALUE=URI;X-ADDRESS=HRBUniversal Training Cente
 r\, Ocean Springs\, Mississippi\, United States;X-APPLE-RADIUS=100;X-TITLE
 =Ocean Springs\, MS Certification Academy:geo:30.41131,-88.827806
END:VEVENT
BEGIN:VTIMEZONE
TZID:America/Chicago
X-LIC-LOCATION:America/Chicago
BEGIN:STANDARD
DTSTART:20261101T010000
TZOFFSETFROM:-0500
TZOFFSETTO:-0600
TZNAME:CST
END:STANDARD
END:VTIMEZONE
END:VCALENDAR