BEGIN:VCALENDAR
VERSION:2.0
PRODID:-//wp-events-plugin.com//7.2.3.1//EN
TZID:America/Chicago
X-WR-TIMEZONE:America/Chicago
BEGIN:VEVENT
UID:382155@hrbuni.com
DTSTART;TZID=America/Chicago:20260702T083000
DTEND;TZID=America/Chicago:20260702T160000
DTSTAMP:20251218T161641Z
URL:https://hrbuni.com/search/ocean-springs-ms-food-protection-manager-cer
 tification-course-exam-2026-01-15-2026-02-26-2026-04-09-2026-05-21-2026-07
 -02/
SUMMARY:Ocean Springs\, MS Food Protection Manager Certification Course & E
 xam
DESCRIPTION:Ocean Springs\, MS Food Protection Manager Certification Course
  & Exam - Are you a food service professional ready to pass your Food Prot
 ection Manager Certification exam with absolute confidence? Stay ahead of 
 the curve\, ensure total regulatory compliance\, and master the essential 
 knowledge required for certification with our intensive Food Manager Safet
 y Training course.
ATTACH;FMTTYPE=image/jpeg:https://hrbuni.com/wp-content/uploads/2025/07/HR
 BUniversal-No-Line.jpg
CATEGORIES:-- Instructor-Led In-Person Course &amp; Exam,Courses &amp;
 Exams Categories,Food Manager
LOCATION:Ocean Springs\, MS Certification Academy\, HRBUniversal Training C
 enter\, Ocean Springs\, Mississippi\, United States
GEO:30.41131;-88.827806
X-APPLE-STRUCTURED-LOCATION;VALUE=URI;X-ADDRESS=HRBUniversal Training Cente
 r\, Ocean Springs\, Mississippi\, United States;X-APPLE-RADIUS=100;X-TITLE
 =Ocean Springs\, MS Certification Academy:geo:30.41131,-88.827806
END:VEVENT
BEGIN:VTIMEZONE
TZID:America/Chicago
X-LIC-LOCATION:America/Chicago
BEGIN:DAYLIGHT
DTSTART:20260308T030000
TZOFFSETFROM:-0600
TZOFFSETTO:-0500
TZNAME:CDT
END:DAYLIGHT
END:VTIMEZONE
END:VCALENDAR