BEGIN:VCALENDAR
VERSION:2.0
PRODID:-//wp-events-plugin.com//7.2.3.1//EN
TZID:America/Chicago
X-WR-TIMEZONE:America/Chicago
BEGIN:VEVENT
UID:383049@hrbuni.com
DTSTART;TZID=America/Chicago:20261105T083000
DTEND;TZID=America/Chicago:20261105T160000
DTSTAMP:20251229T204005Z
URL:https://hrbuni.com/search/ocean-springs-ms-fmc-food-managers-certifica
 tion-exam-course-2026-01-15-2026-02-26-2026-04-09-2026-05-21-2026-07-02-20
 26-08-13-2026-09-24-2026-11-05/
SUMMARY:Ocean Springs\, MS FMC® Food Managers Certification Exam & Course
DESCRIPTION:Ocean Springs\, MS FMC® Food Managers Certification Exam & Cou
 rse - Professional excellence starts with the right training. HRBUniversal
  offers a premier ANAB-accredited FMC® Food Managers Certification progra
 m designed to meet the highest industry standards. By combining the latest
  FDA Food Code with decades of hands-on experience\, we prepare you to tac
 kle any food sanitation challenge.
ATTACH;FMTTYPE=image/jpeg:https://hrbuni.com/wp-content/uploads/2024/06/Sc
 reenshot-2024-06-12-at-11.47.05 AM-1.png
CATEGORIES:-- Instructor-Led In-Person Course &amp; Exam,Courses &amp;
 Exams Categories,Food Manager
LOCATION:Ocean Springs\, MS Certification Academy\, HRBUniversal Training C
 enter\, Ocean Springs\, Mississippi\, United States
GEO:30.41131;-88.827806
X-APPLE-STRUCTURED-LOCATION;VALUE=URI;X-ADDRESS=HRBUniversal Training Cente
 r\, Ocean Springs\, Mississippi\, United States;X-APPLE-RADIUS=100;X-TITLE
 =Ocean Springs\, MS Certification Academy:geo:30.41131,-88.827806
END:VEVENT
BEGIN:VTIMEZONE
TZID:America/Chicago
X-LIC-LOCATION:America/Chicago
BEGIN:STANDARD
DTSTART:20261101T010000
TZOFFSETFROM:-0500
TZOFFSETTO:-0600
TZNAME:CST
END:STANDARD
END:VTIMEZONE
END:VCALENDAR