BEGIN:VCALENDAR
VERSION:2.0
PRODID:-//wp-events-plugin.com//7.2.3.1//EN
TZID:America/Chicago
X-WR-TIMEZONE:America/Chicago
BEGIN:VEVENT
UID:382304@hrbuni.com
DTSTART;TZID=America/New_York:20261125T083000
DTEND;TZID=America/New_York:20261125T160000
DTSTAMP:20251215T215906Z
URL:https://hrbuni.com/search/ocala-fl-food-protection-manager-certificati
 on-course-exam-2026-02-04-2026-03-18-2026-04-29-2026-06-10-2026-07-22-2026
 -09-02-2026-10-14-2026-11-25/
SUMMARY:Ocala\, FL Food Protection Manager Certification Course & Exam
DESCRIPTION:Ocala\, FL Food Protection Manager Certification Course & Exam 
 - Are you a food service professional ready to pass your Food Protection M
 anager Certification exam with absolute confidence? Stay ahead of the curv
 e\, ensure total regulatory compliance\, and master the essential knowledg
 e required for certification with our intensive Food Manager Safety Traini
 ng course.
ATTACH;FMTTYPE=image/jpeg:https://hrbuni.com/wp-content/uploads/2025/07/HR
 BUniversal-No-Line.jpg
CATEGORIES:-- Instructor-Led In-Person Course &amp; Exam,Courses &amp;
 Exams Categories,Food Manager
LOCATION:Ocala\, FL Certification Academy\, HRBUniversal Training Center\, 
 Ocala\, Florida\, 34474\, United States
GEO:29.156193;-82.203988
X-APPLE-STRUCTURED-LOCATION;VALUE=URI;X-ADDRESS=HRBUniversal Training Cente
 r\, Ocala\, Florida\, 34474\, United States;X-APPLE-RADIUS=100;X-TITLE=Oca
 la\, FL Certification Academy:geo:29.156193,-82.203988
END:VEVENT
BEGIN:VTIMEZONE
TZID:America/New_York
X-LIC-LOCATION:America/New_York
BEGIN:STANDARD
DTSTART:20261101T010000
TZOFFSETFROM:-0400
TZOFFSETTO:-0500
TZNAME:EST
END:STANDARD
END:VTIMEZONE
END:VCALENDAR