BEGIN:VCALENDAR
VERSION:2.0
PRODID:-//wp-events-plugin.com//7.2.3.1//EN
TZID:America/Chicago
X-WR-TIMEZONE:America/Chicago
BEGIN:VEVENT
UID:211543@hrbuni.com
DTSTART;TZID=America/Chicago:20250701T090000
DTEND;TZID=America/Chicago:20260430T150000
DTSTAMP:20250609T214120Z
URL:https://hrbuni.com/search/north-richland-hills-tx-sure-haccp-food-safe
 ty-manager-remote-course/
SUMMARY:North Richland Hills\, TX SURE™ HACCP Food Safety Manager Remote 
 Course
DESCRIPTION:The North Richland Hills\, TX  SURE™ HACCP Food Safety Manag
 er Remote Course is a  Special Processes Retail HACCP session that is app
 roved by the International HACCP Alliance utilizing the SURE™ HACCP Food
  Safety Manager Program.
ATTACH;FMTTYPE=image/jpeg:https://hrbuni.com/wp-content/uploads/2024/11/Ma
 nagerHACCP.jpg
CATEGORIES:-- Instructor-Led Remote Course &amp; Exam,Courses &amp; Exams
 Categories,HACCP
LOCATION:North Richland Hills\, TX Certification Academy\, HRBUniversal Tra
 ining Center\, North Richland Hills\, Texas\, United States
GEO:32.832352;-97.21729
X-APPLE-STRUCTURED-LOCATION;VALUE=URI;X-ADDRESS=HRBUniversal Training Cente
 r\, North Richland Hills\, Texas\, United States;X-APPLE-RADIUS=100;X-TITL
 E=North Richland Hills\, TX Certification Academy:geo:32.832352,-97.21729
END:VEVENT
BEGIN:VTIMEZONE
TZID:America/Chicago
X-LIC-LOCATION:America/Chicago
BEGIN:DAYLIGHT
DTSTART:20250309T030000
TZOFFSETFROM:-0600
TZOFFSETTO:-0500
TZNAME:CDT
END:DAYLIGHT
BEGIN:STANDARD
DTSTART:20251102T010000
TZOFFSETFROM:-0500
TZOFFSETTO:-0600
TZNAME:CST
END:STANDARD
BEGIN:DAYLIGHT
DTSTART:20260308T030000
TZOFFSETFROM:-0600
TZOFFSETTO:-0500
TZNAME:CDT
END:DAYLIGHT
END:VTIMEZONE
END:VCALENDAR