BEGIN:VCALENDAR
VERSION:2.0
PRODID:-//wp-events-plugin.com//7.2.3.1//EN
TZID:America/Chicago
X-WR-TIMEZONE:America/Chicago
BEGIN:VEVENT
UID:383452@hrbuni.com
DTSTART;TZID=America/Chicago:20260520T083000
DTEND;TZID=America/Chicago:20260520T160000
DTSTAMP:20251230T210728Z
URL:https://hrbuni.com/search/new-orleans-la-servsafe-food-protection-mana
 ger-exam-course-2026-01-14-2026-02-25-2026-04-08-2026-05-20/
SUMMARY:New Orleans\, LA ServSafe® Food Protection Manager Exam & Course
DESCRIPTION:Looking for a trusted ServSafe® Food Protection Manager Certif
 ication program in New Orleans\, LA? Look no further. Our comprehensive tr
 aining is accredited by the American National Standards Institute (ANSI)-C
 onference for Food Protection (CFP)\, ensuring you receive a credential th
 at meets the highest standards.
ATTACH;FMTTYPE=image/jpeg:https://hrbuni.com/wp-content/uploads/2024/07/Se
 rvSafeProct.fw_-300x200-1.jpg
CATEGORIES:-- Instructor-Led In-Person Course &amp; Exam,Courses &amp;
 Exams Categories,Food Manager
LOCATION:New Orleans\, LA ServSafe® & NRA Certification Programs\, HRBUniv
 ersal Training Center\, New Orleans\, Louisiana\, 70053\, United States
GEO:29.910434;-90.051325
X-APPLE-STRUCTURED-LOCATION;VALUE=URI;X-ADDRESS=HRBUniversal Training Cente
 r\, New Orleans\, Louisiana\, 70053\, United States;X-APPLE-RADIUS=100;X-T
 ITLE=New Orleans\, LA ServSafe® & NRA Certification Programs:geo:29.91043
 4,-90.051325
END:VEVENT
BEGIN:VTIMEZONE
TZID:America/Chicago
X-LIC-LOCATION:America/Chicago
BEGIN:DAYLIGHT
DTSTART:20260308T030000
TZOFFSETFROM:-0600
TZOFFSETTO:-0500
TZNAME:CDT
END:DAYLIGHT
END:VTIMEZONE
END:VCALENDAR