BEGIN:VCALENDAR
VERSION:2.0
PRODID:-//wp-events-plugin.com//7.2.3.1//EN
TZID:America/Chicago
X-WR-TIMEZONE:America/Chicago
BEGIN:VEVENT
UID:382116@hrbuni.com
DTSTART;TZID=America/Chicago:20260923T083000
DTEND;TZID=America/Chicago:20260923T160000
DTSTAMP:20251215T192142Z
URL:https://hrbuni.com/search/new-orleans-la-food-protection-manager-certi
 fication-course-exam-2026-01-14-2026-02-25-2026-04-08-2026-05-20-2026-07-0
 1-2026-08-12-2026-09-23/
SUMMARY:New Orleans\, LA Food Protection Manager Certification Course & Exa
 m
DESCRIPTION:New Orleans\, LA Food Protection Manager Certification Course &
  Exam - Are you a food service professional ready to pass your Food Protec
 tion Manager Certification exam with absolute confidence? Stay ahead of th
 e curve\, ensure total regulatory compliance\, and master the essential kn
 owledge required for certification with our intensive Food Manager Safety 
 Training course.
ATTACH;FMTTYPE=image/jpeg:https://hrbuni.com/wp-content/uploads/2025/07/HR
 BUniversal-No-Line.jpg
CATEGORIES:-- Instructor-Led In-Person Course &amp; Exam,Courses &amp;
 Exams Categories,Food Manager
LOCATION:New Orleans\, LA Certification Academy\, HRBUniversal Training Cen
 ter\, New Orleans\, Louisiana\, 70053\, United States
GEO:29.92454;-90.041757
X-APPLE-STRUCTURED-LOCATION;VALUE=URI;X-ADDRESS=HRBUniversal Training Cente
 r\, New Orleans\, Louisiana\, 70053\, United States;X-APPLE-RADIUS=100;X-T
 ITLE=New Orleans\, LA Certification Academy:geo:29.92454,-90.041757
END:VEVENT
BEGIN:VTIMEZONE
TZID:America/Chicago
X-LIC-LOCATION:America/Chicago
BEGIN:DAYLIGHT
DTSTART:20260308T030000
TZOFFSETFROM:-0600
TZOFFSETTO:-0500
TZNAME:CDT
END:DAYLIGHT
END:VTIMEZONE
END:VCALENDAR