BEGIN:VCALENDAR
VERSION:2.0
PRODID:-//wp-events-plugin.com//7.2.3.1//EN
TZID:America/Chicago
X-WR-TIMEZONE:America/Chicago
BEGIN:VEVENT
UID:382999@hrbuni.com
DTSTART;TZID=America/Chicago:20260923T083000
DTEND;TZID=America/Chicago:20260923T160000
DTSTAMP:20251229T202156Z
URL:https://hrbuni.com/search/new-orleans-la-fmc-food-managers-certificati
 on-exam-course-2026-01-14-2026-02-25-2026-04-08-2026-05-20-2026-07-01-2026
 -08-12-2026-09-23/
SUMMARY:New Orleans\, LA FMC® Food Managers Certification Exam & Course
DESCRIPTION:New Orleans\, LA FMC® Food Managers Certification Exam & Cours
 e - Professional excellence starts with the right training. HRBUniversal o
 ffers a premier ANAB-accredited FMC® Food Managers Certification program 
 designed to meet the highest industry standards. By combining the latest F
 DA Food Code with decades of hands-on experience\, we prepare you to tackl
 e any food sanitation challenge.
ATTACH;FMTTYPE=image/jpeg:https://hrbuni.com/wp-content/uploads/2024/06/Sc
 reenshot-2024-06-12-at-11.47.05 AM-1.png
CATEGORIES:-- Instructor-Led In-Person Course &amp; Exam,Courses &amp;
 Exams Categories,Food Manager
LOCATION:New Orleans\, LA Certification Academy\, HRBUniversal Training Cen
 ter\, New Orleans\, Louisiana\, 70053\, United States
GEO:29.92454;-90.041757
X-APPLE-STRUCTURED-LOCATION;VALUE=URI;X-ADDRESS=HRBUniversal Training Cente
 r\, New Orleans\, Louisiana\, 70053\, United States;X-APPLE-RADIUS=100;X-T
 ITLE=New Orleans\, LA Certification Academy:geo:29.92454,-90.041757
END:VEVENT
BEGIN:VTIMEZONE
TZID:America/Chicago
X-LIC-LOCATION:America/Chicago
BEGIN:DAYLIGHT
DTSTART:20260308T030000
TZOFFSETFROM:-0600
TZOFFSETTO:-0500
TZNAME:CDT
END:DAYLIGHT
END:VTIMEZONE
END:VCALENDAR