BEGIN:VCALENDAR
VERSION:2.0
PRODID:-//wp-events-plugin.com//7.2.3.1//EN
TZID:America/Chicago
X-WR-TIMEZONE:America/Chicago
BEGIN:VEVENT
UID:383020@hrbuni.com
DTSTART;TZID=America/Chicago:20261216T083000
DTEND;TZID=America/Chicago:20261216T160000
DTSTAMP:20251229T202401Z
URL:https://hrbuni.com/search/metairie-la-food-protection-manager-certific
 ation-course-exam-2026-01-14-2026-02-25-2026-04-08-2026-05-20-2026-07-01-2
 026-08-12-2026-09-23-2026-11-04-2026-12-16/
SUMMARY:Metairie\, LA Food Protection Manager Certification Course & Exam
DESCRIPTION:Are you a food service professional ready to pass your Food Pro
 tection Manager Certification exam with absolute confidence? Stay ahead of
  the curve\, ensure total regulatory compliance\, and master the essential
  knowledge required for certification with our intensive Food Manager Safe
 ty Training course.
ATTACH;FMTTYPE=image/jpeg:https://hrbuni.com/wp-content/uploads/2025/07/HR
 BUniversal-No-Line.jpg
CATEGORIES:-- Instructor-Led In-Person Course &amp; Exam,Courses &amp;
 Exams Categories,Food Manager
LOCATION:Metairie\, LA Certification Academy\, HRBUniversal Training Center
 \, Metairie\, Louisiana\, 70001\, United States
GEO:29.979734;-90.163544
X-APPLE-STRUCTURED-LOCATION;VALUE=URI;X-ADDRESS=HRBUniversal Training Cente
 r\, Metairie\, Louisiana\, 70001\, United States;X-APPLE-RADIUS=100;X-TITL
 E=Metairie\, LA Certification Academy:geo:29.979734,-90.163544
END:VEVENT
BEGIN:VTIMEZONE
TZID:America/Chicago
X-LIC-LOCATION:America/Chicago
BEGIN:STANDARD
DTSTART:20261101T010000
TZOFFSETFROM:-0500
TZOFFSETTO:-0600
TZNAME:CST
END:STANDARD
END:VTIMEZONE
END:VCALENDAR