BEGIN:VCALENDAR
VERSION:2.0
PRODID:-//wp-events-plugin.com//7.2.3.1//EN
TZID:America/Chicago
X-WR-TIMEZONE:America/Chicago
BEGIN:VEVENT
UID:211006@hrbuni.com
DTSTART;TZID=America/Chicago:20250701T090000
DTEND;TZID=America/Chicago:20260430T150000
DTSTAMP:20250407T215330Z
URL:https://hrbuni.com/search/lakeville-mn-sure-haccp-food-safety-manager-
 remote-course/
SUMMARY:Lakeville\, MN SURE™ HACCP Food Safety Manager Remote Course
DESCRIPTION:The Lakeville\, MN  SURE™ HACCP Food Safety Manager Remote C
 ourse is a  Special Processes Retail HACCP session that is approved by th
 e International HACCP Alliance utilizing the SURE™ HACCP Food Safety Man
 ager Program.
ATTACH;FMTTYPE=image/jpeg:https://hrbuni.com/wp-content/uploads/2024/11/Ma
 nagerHACCP.jpg
CATEGORIES:-- Instructor-Led Remote Course &amp; Exam,Courses &amp; Exams
 Categories,HACCP
LOCATION:Lakeville\, MN Certification Academy\, HRBUniversal Training Cente
 r\, Lakeville\, Minnesota\, United States
GEO:44.647682;-93.243883
X-APPLE-STRUCTURED-LOCATION;VALUE=URI;X-ADDRESS=HRBUniversal Training Cente
 r\, Lakeville\, Minnesota\, United States;X-APPLE-RADIUS=100;X-TITLE=Lakev
 ille\, MN Certification Academy:geo:44.647682,-93.243883
END:VEVENT
BEGIN:VTIMEZONE
TZID:America/Chicago
X-LIC-LOCATION:America/Chicago
BEGIN:DAYLIGHT
DTSTART:20250309T030000
TZOFFSETFROM:-0600
TZOFFSETTO:-0500
TZNAME:CDT
END:DAYLIGHT
BEGIN:STANDARD
DTSTART:20251102T010000
TZOFFSETFROM:-0500
TZOFFSETTO:-0600
TZNAME:CST
END:STANDARD
BEGIN:DAYLIGHT
DTSTART:20260308T030000
TZOFFSETFROM:-0600
TZOFFSETTO:-0500
TZNAME:CDT
END:DAYLIGHT
END:VTIMEZONE
END:VCALENDAR