BEGIN:VCALENDAR
VERSION:2.0
PRODID:-//wp-events-plugin.com//7.2.3.1//EN
TZID:America/Chicago
X-WR-TIMEZONE:America/Chicago
BEGIN:VEVENT
UID:383436@hrbuni.com
DTSTART;TZID=America/Chicago:20261102T083000
DTEND;TZID=America/Chicago:20261102T160000
DTSTAMP:20251230T205645Z
URL:https://hrbuni.com/search/lafayette-la-servsafe-food-protection-manage
 r-exam-course-2026-01-12-2026-02-23-2026-04-06-2026-05-18-2026-06-29-2026-
 08-10-2026-09-21-2026-11-02/
SUMMARY:Lafayette\, LA ServSafe® Food Protection Manager Exam & Course
DESCRIPTION:Looking for a trusted ServSafe® Food Protection Manager Certif
 ication program in Lafayette\, LA? Look no further. Our comprehensive trai
 ning is accredited by the American National Standards Institute (ANSI)-Con
 ference for Food Protection (CFP)\, ensuring you receive a credential that
  meets the highest standards.
ATTACH;FMTTYPE=image/jpeg:https://hrbuni.com/wp-content/uploads/2024/07/Se
 rvSafeProct.fw_-300x200-1.jpg
CATEGORIES:-- Instructor-Led In-Person Course &amp; Exam,Courses &amp;
 Exams Categories,Food Manager
LOCATION:Lafayette\, LA ServSafe® & NRA Certification Programs\, HRBUniver
 sal Training Center\, Lafayette\, Louisiana\, 70508\, United States
GEO:30.154741;-92.037116
X-APPLE-STRUCTURED-LOCATION;VALUE=URI;X-ADDRESS=HRBUniversal Training Cente
 r\, Lafayette\, Louisiana\, 70508\, United States;X-APPLE-RADIUS=100;X-TIT
 LE=Lafayette\, LA ServSafe® & NRA Certification Programs:geo:30.154741,-9
 2.037116
END:VEVENT
BEGIN:VTIMEZONE
TZID:America/Chicago
X-LIC-LOCATION:America/Chicago
BEGIN:STANDARD
DTSTART:20261101T010000
TZOFFSETFROM:-0500
TZOFFSETTO:-0600
TZNAME:CST
END:STANDARD
END:VTIMEZONE
END:VCALENDAR