BEGIN:VCALENDAR
VERSION:2.0
PRODID:-//wp-events-plugin.com//7.2.3.1//EN
TZID:America/Chicago
X-WR-TIMEZONE:America/Chicago
BEGIN:VEVENT
UID:382097@hrbuni.com
DTSTART;TZID=America/Chicago:20261102T083000
DTEND;TZID=America/Chicago:20261102T160000
DTSTAMP:20251218T161911Z
URL:https://hrbuni.com/search/lafayette-la-food-protection-manager-certifi
 cation-course-exam-2026-11-02/
SUMMARY:Lafayette\, LA Food Protection Manager Certification Course & Exam
DESCRIPTION:Lafayette\, LA Food Protection Manager Certification Course & E
 xam - Are you a food service professional ready to pass your Food Protecti
 on Manager Certification exam with absolute confidence? Stay ahead of the 
 curve\, ensure total regulatory compliance\, and master the essential know
 ledge required for certification with our intensive Food Manager Safety Tr
 aining course.
ATTACH;FMTTYPE=image/jpeg:https://hrbuni.com/wp-content/uploads/2025/07/HR
 BUniversal-No-Line.jpg
CATEGORIES:-- Instructor-Led In-Person Course &amp; Exam,Courses &amp;
 Exams Categories,Food Manager
LOCATION:Lafayette\, LA Certification Academy\, HRBUniversal Training Cente
 r\, Lafayette\, Louisiana\, 70508\, United States
GEO:30.154741;-92.037116
X-APPLE-STRUCTURED-LOCATION;VALUE=URI;X-ADDRESS=HRBUniversal Training Cente
 r\, Lafayette\, Louisiana\, 70508\, United States;X-APPLE-RADIUS=100;X-TIT
 LE=Lafayette\, LA Certification Academy:geo:30.154741,-92.037116
END:VEVENT
BEGIN:VTIMEZONE
TZID:America/Chicago
X-LIC-LOCATION:America/Chicago
BEGIN:STANDARD
DTSTART:20261101T010000
TZOFFSETFROM:-0500
TZOFFSETTO:-0600
TZNAME:CST
END:STANDARD
END:VTIMEZONE
END:VCALENDAR