BEGIN:VCALENDAR
VERSION:2.0
PRODID:-//wp-events-plugin.com//7.2.3.1//EN
TZID:America/Chicago
X-WR-TIMEZONE:America/Chicago
BEGIN:VEVENT
UID:383338@hrbuni.com
DTSTART;TZID=America/New_York:20261204T083000
DTEND;TZID=America/New_York:20261204T160000
DTSTAMP:20251230T180245Z
URL:https://hrbuni.com/search/jacksonville-fl-fmc-food-managers-certificat
 ion-exam-course-2026-02-13-2026-03-27-2026-05-08-2026-06-19-2026-07-31-202
 6-09-11-2026-10-23-2026-12-04/
SUMMARY:Jacksonville\, FL FMC® Food Managers Certification Exam & Course
DESCRIPTION:Jacksonville\, FL FMC® Food Managers Certification Exam & Cour
 se - Professional excellence starts with the right training. HRBUniversal 
 offers a premier ANAB-accredited FMC® Food Managers Certification program
  designed to meet the highest industry standards. By combining the latest 
 FDA Food Code with decades of hands-on experience\, we prepare you to tack
 le any food sanitation challenge.
ATTACH;FMTTYPE=image/jpeg:https://hrbuni.com/wp-content/uploads/2024/06/Sc
 reenshot-2024-06-12-at-11.47.05 AM-1.png
CATEGORIES:-- Instructor-Led In-Person Course &amp; Exam,Courses &amp;
 Exams Categories,Food Manager
LOCATION:Jacksonville\, FL Certification Academy\, HRBUniversal Training Ce
 nter\, Jacksonville\, Florida\, United States
GEO:30.332184;-81.655651
X-APPLE-STRUCTURED-LOCATION;VALUE=URI;X-ADDRESS=HRBUniversal Training Cente
 r\, Jacksonville\, Florida\, United States;X-APPLE-RADIUS=100;X-TITLE=Jack
 sonville\, FL Certification Academy:geo:30.332184,-81.655651
END:VEVENT
BEGIN:VTIMEZONE
TZID:America/New_York
X-LIC-LOCATION:America/New_York
BEGIN:STANDARD
DTSTART:20261101T010000
TZOFFSETFROM:-0400
TZOFFSETTO:-0500
TZNAME:EST
END:STANDARD
END:VTIMEZONE
END:VCALENDAR