BEGIN:VCALENDAR
VERSION:2.0
PRODID:-//wp-events-plugin.com//7.2.3.1//EN
TZID:America/Chicago
X-WR-TIMEZONE:America/Chicago
BEGIN:VEVENT
UID:383401@hrbuni.com
DTSTART;TZID=America/Chicago:20260513T083000
DTEND;TZID=America/Chicago:20260513T160000
DTSTAMP:20251230T202043Z
URL:https://hrbuni.com/search/huntsville-al-servsafe-food-protection-manag
 er-exam-course-2026-01-07-2026-02-18-2026-04-01-2026-05-13/
SUMMARY:Huntsville\, AL ServSafe® Food Protection Manager Exam & Course
DESCRIPTION:Looking for a trusted ServSafe® Food Protection Manager Certif
 ication program in Huntsville\, AL? Look no further. Our comprehensive tra
 ining is accredited by the American National Standards Institute (ANSI)-Co
 nference for Food Protection (CFP)\, ensuring you receive a credential tha
 t meets the highest standards.
ATTACH;FMTTYPE=image/jpeg:https://hrbuni.com/wp-content/uploads/2024/07/Se
 rvSafeProct.fw_-300x200-1.jpg
CATEGORIES:-- Instructor-Led In-Person Course &amp; Exam,Courses &amp;
 Exams Categories,Food Manager
LOCATION:Huntsville\, AL ServSafe® & NRA Certification Programs\, HRBUnive
 rsal Training Center\, Huntsville\, Alabama\, 35802\, United States
GEO:34.670187;-86.550165
X-APPLE-STRUCTURED-LOCATION;VALUE=URI;X-ADDRESS=HRBUniversal Training Cente
 r\, Huntsville\, Alabama\, 35802\, United States;X-APPLE-RADIUS=100;X-TITL
 E=Huntsville\, AL ServSafe® & NRA Certification Programs:geo:34.670187,-8
 6.550165
END:VEVENT
BEGIN:VTIMEZONE
TZID:America/Chicago
X-LIC-LOCATION:America/Chicago
BEGIN:DAYLIGHT
DTSTART:20260308T030000
TZOFFSETFROM:-0600
TZOFFSETTO:-0500
TZNAME:CDT
END:DAYLIGHT
END:VTIMEZONE
END:VCALENDAR