BEGIN:VCALENDAR
VERSION:2.0
PRODID:-//wp-events-plugin.com//7.2.3.1//EN
TZID:America/Chicago
X-WR-TIMEZONE:America/Chicago
BEGIN:VEVENT
UID:382059@hrbuni.com
DTSTART;TZID=America/Chicago:20261209T083000
DTEND;TZID=America/Chicago:20261209T160000
DTSTAMP:20251215T180848Z
URL:https://hrbuni.com/search/huntsville-al-food-protection-manager-certif
 ication-course-exam-2026-01-07-2026-02-18-2026-04-01-2026-05-13-2026-06-24
 -2026-08-05-2026-09-16-2026-10-28-2026-12-09/
SUMMARY:Huntsville\, AL Food Protection Manager Certification Course & Exam
DESCRIPTION:Huntsville\, AL Food Protection Manager Certification Course & 
 Exam - Are you a food service professional ready to pass your Food Protect
 ion Manager Certification exam with absolute confidence? Stay ahead of the
  curve\, ensure total regulatory compliance\, and master the essential kno
 wledge required for certification with our intensive Food Manager Safety T
 raining course.
ATTACH;FMTTYPE=image/jpeg:https://hrbuni.com/wp-content/uploads/2025/07/HR
 BUniversal-No-Line.jpg
CATEGORIES:-- Instructor-Led In-Person Course &amp; Exam,Courses &amp;
 Exams Categories,Food Manager
LOCATION:Huntsville\, AL Certification Academy\, HRBUniversal Training Cent
 er\, Huntsville\, Alabama\, 35802\, United States
GEO:34.670187;-86.550165
X-APPLE-STRUCTURED-LOCATION;VALUE=URI;X-ADDRESS=HRBUniversal Training Cente
 r\, Huntsville\, Alabama\, 35802\, United States;X-APPLE-RADIUS=100;X-TITL
 E=Huntsville\, AL Certification Academy:geo:34.670187,-86.550165
END:VEVENT
BEGIN:VTIMEZONE
TZID:America/Chicago
X-LIC-LOCATION:America/Chicago
BEGIN:STANDARD
DTSTART:20261101T010000
TZOFFSETFROM:-0500
TZOFFSETTO:-0600
TZNAME:CST
END:STANDARD
END:VTIMEZONE
END:VCALENDAR