BEGIN:VCALENDAR
VERSION:2.0
PRODID:-//wp-events-plugin.com//7.2.3.1//EN
TZID:America/Chicago
X-WR-TIMEZONE:America/Chicago
BEGIN:VEVENT
UID:382950@hrbuni.com
DTSTART;TZID=America/Chicago:20261028T083000
DTEND;TZID=America/Chicago:20261028T160000
DTSTAMP:20251219T204102Z
URL:https://hrbuni.com/search/huntsville-al-fmc-food-managers-certificatio
 n-exam-course-2026-01-07-2026-02-18-2026-04-01-2026-05-13-2026-06-24-2026-
 08-05-2026-09-16-2026-10-28/
SUMMARY:Huntsville\, AL FMC® Food Managers Certification Exam & Course
DESCRIPTION:Huntsville\, AL FMC® Food Managers Certification Exam & Course
  - Professional excellence starts with the right training. HRBUniversal of
 fers a premier ANAB-accredited FMC® Food Managers Certification program d
 esigned to meet the highest industry standards. By combining the latest FD
 A Food Code with decades of hands-on experience\, we prepare you to tackle
  any food sanitation challenge.
ATTACH;FMTTYPE=image/jpeg:https://hrbuni.com/wp-content/uploads/2024/06/Sc
 reenshot-2024-06-12-at-11.47.05 AM-1.png
CATEGORIES:-- Instructor-Led In-Person Course &amp; Exam,Courses &amp;
 Exams Categories,Food Manager
LOCATION:Huntsville\, AL Certification Academy\, HRBUniversal Training Cent
 er\, Huntsville\, Alabama\, 35802\, United States
GEO:34.670187;-86.550165
X-APPLE-STRUCTURED-LOCATION;VALUE=URI;X-ADDRESS=HRBUniversal Training Cente
 r\, Huntsville\, Alabama\, 35802\, United States;X-APPLE-RADIUS=100;X-TITL
 E=Huntsville\, AL Certification Academy:geo:34.670187,-86.550165
END:VEVENT
BEGIN:VTIMEZONE
TZID:America/Chicago
X-LIC-LOCATION:America/Chicago
BEGIN:DAYLIGHT
DTSTART:20260308T030000
TZOFFSETFROM:-0600
TZOFFSETTO:-0500
TZNAME:CDT
END:DAYLIGHT
END:VTIMEZONE
END:VCALENDAR