BEGIN:VCALENDAR
VERSION:2.0
PRODID:-//wp-events-plugin.com//7.2.3.1//EN
TZID:America/Chicago
X-WR-TIMEZONE:America/Chicago
BEGIN:VEVENT
UID:383475@hrbuni.com
DTSTART;TZID=America/Chicago:20260924T083000
DTEND;TZID=America/Chicago:20260924T160000
DTSTAMP:20251230T214022Z
URL:https://hrbuni.com/search/gulfport-ms-servsafe-food-protection-manager
 -exam-course-2026-01-15-2026-02-26-2026-04-09-2026-05-21-2026-07-02-2026-0
 8-13-2026-09-24/
SUMMARY:Gulfport\, MS ServSafe® Food Protection Manager Exam & Course
DESCRIPTION:Looking for a trusted ServSafe® Food Protection Manager Certif
 ication program in Gulfport\, MS? Look no further. Our comprehensive train
 ing is accredited by the American National Standards Institute (ANSI)-Conf
 erence for Food Protection (CFP)\, ensuring you receive a credential that 
 meets the highest standards.
ATTACH;FMTTYPE=image/jpeg:https://hrbuni.com/wp-content/uploads/2024/07/Se
 rvSafeProct.fw_-300x200-1.jpg
CATEGORIES:-- Instructor-Led In-Person Course &amp; Exam,Courses &amp;
 Exams Categories,Food Manager
LOCATION:Gulfport\, MS ServSafe® & NRA Certification Programs\, HRBUnivers
 al Training Center\, Gulfport\, Mississippi\, 39503\, United States
GEO:30.456061;-89.151548
X-APPLE-STRUCTURED-LOCATION;VALUE=URI;X-ADDRESS=HRBUniversal Training Cente
 r\, Gulfport\, Mississippi\, 39503\, United States;X-APPLE-RADIUS=100;X-TI
 TLE=Gulfport\, MS ServSafe® & NRA Certification Programs:geo:30.456061,-8
 9.151548
END:VEVENT
BEGIN:VTIMEZONE
TZID:America/Chicago
X-LIC-LOCATION:America/Chicago
BEGIN:DAYLIGHT
DTSTART:20260308T030000
TZOFFSETFROM:-0600
TZOFFSETTO:-0500
TZNAME:CDT
END:DAYLIGHT
END:VTIMEZONE
END:VCALENDAR