BEGIN:VCALENDAR
VERSION:2.0
PRODID:-//wp-events-plugin.com//7.2.3.1//EN
TZID:America/Chicago
X-WR-TIMEZONE:America/Chicago
BEGIN:VEVENT
UID:382137@hrbuni.com
DTSTART;TZID=America/Chicago:20260924T083000
DTEND;TZID=America/Chicago:20260924T160000
DTSTAMP:20251215T194257Z
URL:https://hrbuni.com/search/gulfport-ms-food-protection-manager-certific
 ation-course-exam-2026-01-15-2026-02-26-2026-04-09-2026-05-21-2026-07-02-2
 026-08-13-2026-09-24/
SUMMARY:Gulfport\, MS Food Protection Manager Certification Course & Exam
DESCRIPTION:Gulfport\, MS Food Protection Manager Certification Course & Ex
 am - Are you a food service professional ready to pass your Food Protectio
 n Manager Certification exam with absolute confidence? Stay ahead of the c
 urve\, ensure total regulatory compliance\, and master the essential knowl
 edge required for certification with our intensive Food Manager Safety Tra
 ining course.
ATTACH;FMTTYPE=image/jpeg:https://hrbuni.com/wp-content/uploads/2025/07/HR
 BUniversal-No-Line.jpg
CATEGORIES:-- Instructor-Led In-Person Course &amp; Exam,Courses &amp;
 Exams Categories,Food Manager
LOCATION:Gulfport\, MS Certification Academy\, HRBUniversal Training Center
 \, Gulfport\, Mississippi\, 39503\, United States
GEO:30.456061;-89.151548
X-APPLE-STRUCTURED-LOCATION;VALUE=URI;X-ADDRESS=HRBUniversal Training Cente
 r\, Gulfport\, Mississippi\, 39503\, United States;X-APPLE-RADIUS=100;X-TI
 TLE=Gulfport\, MS Certification Academy:geo:30.456061,-89.151548
END:VEVENT
BEGIN:VTIMEZONE
TZID:America/Chicago
X-LIC-LOCATION:America/Chicago
BEGIN:DAYLIGHT
DTSTART:20260308T030000
TZOFFSETFROM:-0600
TZOFFSETTO:-0500
TZNAME:CDT
END:DAYLIGHT
END:VTIMEZONE
END:VCALENDAR