BEGIN:VCALENDAR
VERSION:2.0
PRODID:-//wp-events-plugin.com//7.2.3.1//EN
TZID:America/Chicago
X-WR-TIMEZONE:America/Chicago
BEGIN:VEVENT
UID:382471@hrbuni.com
DTSTART;TZID=America/New_York:20260422T083000
DTEND;TZID=America/New_York:20260422T160000
DTSTAMP:20260420T162825Z
URL:https://hrbuni.com/search/greenville-sc-food-protection-manager-certif
 ication-course-exam-2026-04-22/
SUMMARY:Greenville\, SC Food Protection Manager Certification Course & Exam
DESCRIPTION:Are you a food service professional ready to pass your Food Pro
 tection Manager Certification exam with absolute confidence? Stay ahead of
  the curve\, ensure total regulatory compliance\, and master the essential
  knowledge required for certification with our intensive Food Manager Safe
 ty Training course.
ATTACH;FMTTYPE=image/jpeg:https://hrbuni.com/wp-content/uploads/2025/07/HR
 BUniversal-No-Line.jpg
CATEGORIES:-- Instructor-Led In-Person Course &amp; Exam,Courses &amp;
 Exams Categories,Food Manager
LOCATION:Greenville\, SC Certification Academy\, HRBUniversal Training Cent
 er\, Greenville\, South Carolina\, 29607\, United States
GEO:34.861892;-82.27646
X-APPLE-STRUCTURED-LOCATION;VALUE=URI;X-ADDRESS=HRBUniversal Training Cente
 r\, Greenville\, South Carolina\, 29607\, United States;X-APPLE-RADIUS=100
 ;X-TITLE=Greenville\, SC Certification Academy:geo:34.861892,-82.27646
END:VEVENT
BEGIN:VTIMEZONE
TZID:America/New_York
X-LIC-LOCATION:America/New_York
BEGIN:DAYLIGHT
DTSTART:20260308T030000
TZOFFSETFROM:-0500
TZOFFSETTO:-0400
TZNAME:EDT
END:DAYLIGHT
END:VTIMEZONE
END:VCALENDAR