BEGIN:VCALENDAR
VERSION:2.0
PRODID:-//wp-events-plugin.com//7.2.3.1//EN
TZID:America/Chicago
X-WR-TIMEZONE:America/Chicago
BEGIN:VEVENT
UID:383371@hrbuni.com
DTSTART;TZID=America/New_York:20261007T083000
DTEND;TZID=America/New_York:20261007T160000
DTSTAMP:20260420T163028Z
URL:https://hrbuni.com/search/greenville-sc-fmc-food-managers-certificatio
 n-exam-course-2026-10-07/
SUMMARY:Greenville\, SC FMC® Food Managers Certification Exam & Course
DESCRIPTION:\nProfessional excellence starts with the right training. HRBUn
 iversal offers a premier ANAB-accredited FMC® Food Managers Certification
  program designed to meet the highest industry standards. By combining the
  latest FDA Food Code with decades of hands-on experience\, we prepare you
  to tackle any food sanitation challenge.\nInvesting in your Food Manager 
 Certification protects your community and boosts your professional credent
 ials. Join the ranks of knowledgeable food safety experts dedicated to ind
 ustry excellence. Contact us today to learn more about our flexible traini
 ng options and upcoming certification courses.\nMobile App\n\nHRBUniversal
  provides a free mobile app to help prepare for the upcoming course &amp\;
  exam session as well as a communication tool to update all participant ab
 out their upcoming course &amp\; exam.  This app can be downloaded from t
 he Apple App Store or Google Play Store. \n\nCourse &amp\; Exam Schedule\
 n\n 	8:30 AM - 8:45 AM - Check-In\n 	8:45 AM – 1:00 PM – Lecture\n 	1:
 00 PM – 2:00 PM – Lunch Break\n 	2:00 pm - 4:00 PM – Exam will be ad
 ministered. Once the exam starts\, no one will be allowed in the exam room
 . Most people take 45 minutes to 1 hour to take the exam\, but you do have
  up to 2 hours to complete it.\n\nLecture &amp\; Training Materials\n\n 	T
 he lecture is a fast-paced 4-hour review course.  Self-study is required 
 before arriving for the course &amp\; exam session since not all topics ar
 e covered in the 4-hour review.  All training materials are available in 
 the HRBUniversal training portal.  This portal is accessible by any devic
 e that supports an internet web browser.  Please refer to your Eventbrite
  confirmation email with instructions on how to access the portal.\n\nLoca
 tion\n\n 	The location for this session is listed at the bottom of your ti
 cket\, confirmation email\, and in the Time &amp\; Location area in the HR
 BUniversal mobile app. The final location will be sent once registration c
 loses to ensure proper social distancing for participants.\n\nNeed help or
  have questions?\n\n 	LIVE CHAT HELP DESK | Monday - Friday: 7:30 am - 10:
 00 pm CST\n\nRegulatory Requirements\n\n 	As stated in the FDA Food Code -
  Section 2-102.12: The Person In Charge (PIC) shall be the Certified Food 
 Protection Manager. Must be on duty at all times that food &amp\; beverage
  is being prepared and served. Please review local regulatory requirements
  for what is required in your area - Regulatory Map.\n\nExam Administratio
 n\n\n 	All exams are given electronically.  All participants can provide 
 their personal computer or tablet for the exam.  If not HRBUniversal will
  provide an Amazon Fire Tablet for the exam session.  Exam languages - En
 glish &amp\; Spanish\n\nANSI/CFP Exam\n\nThe FMC® Food Managers Certifica
 tion &amp\; ANSI logo is displayed with all certificates verifiable at &am
 p\; ANSI logo is displayed with all certificates verifiable at FoodManager
 sCertification.com or by QR Code.\n\nThe exam is administered electronical
 ly only in person with an approved Certified EduProctor.\n\nThis ANSI Nati
 onal Accreditation Board (ANAB-CFP) accredited FMC® Food Managers Certifi
 cation Examination will consist of seventy (70) multiple-choice questions\
 , with a specific number of each covering the following topics\, and you m
 ust pass with 70% to be awarded a FMC® Food Managers Certificate. :\n\n 	
 Protect Food - fourteen (14) questions\;\n 	Purchase\, Receive\, and Store
  Food - eight (8) questions\;\n 	Prepare Food - seventeen (17) questions\;
 \n 	Serve and Display Food - seven (7) questions\;\n 	Cleaning\, Sanitizin
 g\, and Maintenance - six (6) questions\;\n 	Maintaining Facilities - four
  (4) questions\;\n 	Food Personnel and Hygiene - ten (10) questions\;\n 	F
 ollowing Regulations - four (4) questions.\n\nYou will have one and a half
  hours to complete the exam.\n\nAfter successful completion of your exam\,
  you will be given the option to view your score and view/print and downlo
 ad your FMC certification. You will also be able to view any areas of defi
 ciency you may have so you know what you need more training on.\n\nIf the 
 participant fails the FMC® Food Managers Certification Exam the first tim
 e\, they may retake the exam a second time for free at the next session co
 nducted in the area. Free Re-Test must be taken in the same format as the 
 first exam was administered.\n\nStudy Materials &amp\; Books\n\n 	All regi
 strations will receive a confirmation email with downloadable training mat
 erials in our mobile app "HRBUniversal" on the Apple App Store or Google P
 lay App Store.\n 	This is a hybrid course\, meaning that self-study is req
 uired before the session\, with a review of the study guide\, practice tes
 t\, and watching select videos before the session date.\n\nRegistration Cl
 osing Dates\n\n 	Course &amp\; Paper Exam registration closes 14 calendar 
 days before the course/exam date.\n 	Course &amp\; Computer/Tablet Exam re
 gistration closes 7 calendar days before the course/exam date.\n 	Exam-onl
 y registration will be open once the course &amp\; exam minimum of 8 peopl
 e has been met\, and these are computer/tablet-based exams only.\n 	Once r
 egistration for the in-person course &amp\; exam session closes 7 calendar
  days before the course/exam date\, the online/remote course &amp\; exam o
 ptions will be opened for registration\n\nHRBUniversal Policies\n\nPlease 
 view the following policies before registration.\n\n 	Instructor-Led Cours
 e &amp\; Exam Details – Download or View Online\n 	Privacy Policy - Down
 load or View Online\n 	Terms of Service - Download or View Online\n 	Trade
 mark &amp\; Copyright - Download or View Online\n\nBy making a payment\, y
 ou allow HRBUniversal to record your IP Address as a digital signature as 
 an acceptance of the agreement that you have read and agree with the Cours
 e &amp\; Exam Details\, Privacy Policy\, Terms of Services\, and Trademark
  &amp\; Copyright to proceed to the payment area. All policies can be view
 ed online at HRBUni.com\, Eventbrite.com events\, and the HRBUniversal mob
 ile app.\n
ATTACH;FMTTYPE=image/jpeg:https://hrbuni.com/wp-content/uploads/2024/06/Sc
 reenshot-2024-06-12-at-11.47.05 AM-1.png
CATEGORIES:-- Instructor-Led In-Person Course &amp; Exam,Courses &amp;
 Exams Categories,Food Manager
LOCATION:Greenville\, SC Certification Academy\, HRBUniversal Training Cent
 er\, Greenville\, South Carolina\, 29607\, United States
GEO:34.861892;-82.27646
X-APPLE-STRUCTURED-LOCATION;VALUE=URI;X-ADDRESS=HRBUniversal Training Cente
 r\, Greenville\, South Carolina\, 29607\, United States;X-APPLE-RADIUS=100
 ;X-TITLE=Greenville\, SC Certification Academy:geo:34.861892,-82.27646
END:VEVENT
BEGIN:VTIMEZONE
TZID:America/New_York
X-LIC-LOCATION:America/New_York
BEGIN:DAYLIGHT
DTSTART:20260308T030000
TZOFFSETFROM:-0500
TZOFFSETTO:-0400
TZNAME:EDT
END:DAYLIGHT
END:VTIMEZONE
END:VCALENDAR