BEGIN:VCALENDAR
VERSION:2.0
PRODID:-//wp-events-plugin.com//7.2.3.1//EN
TZID:America/Chicago
X-WR-TIMEZONE:America/Chicago
BEGIN:VEVENT
UID:382766@hrbuni.com
DTSTART;TZID=America/New_York:20260722T083000
DTEND;TZID=America/New_York:20260722T160000
DTSTAMP:20251219T144209Z
URL:https://hrbuni.com/search/gainesville-fl-responsible-training-food-pro
 tection-manager-exam-course-2026-02-04-2026-03-18-2026-04-29-2026-06-10-20
 26-07-22/
SUMMARY:Gainesville\, FL Responsible Training Food Protection Manager Exam 
 & Course
DESCRIPTION:Gainesville\, FL Responsible Training Food Protection Manager E
 xam & Course - Are you looking to earn your Food Protection Manager Certif
 ication in Gainesville\, FL? Our Responsible Training program is the premi
 er choice for local food service professionals. As an ANSI-CFP accredited 
 provider\, we deliver a comprehensive curriculum that blends the most rece
 nt FDA Food Code updates with decades of hands-on food sanitation expertis
 e. Developed by Responsible Training in collaboration with industry leader
 s\, our course is designed to prepare you for real-world safety challenges
 .
ATTACH;FMTTYPE=image/jpeg:https://hrbuni.com/wp-content/uploads/2023/09/Sc
 reenshot-2024-06-10-at-7.40.56 PM-1.png
CATEGORIES:-- Instructor-Led In-Person Course &amp; Exam,Courses &amp;
 Exams Categories,Food Manager
LOCATION:Gainesville\, FL Certification Academy\, HRBUniversal Training Cen
 ter\, Gainesville\, Florida\, 30501\, United States
GEO:29.61894;-82.378753
X-APPLE-STRUCTURED-LOCATION;VALUE=URI;X-ADDRESS=HRBUniversal Training Cente
 r\, Gainesville\, Florida\, 30501\, United States;X-APPLE-RADIUS=100;X-TIT
 LE=Gainesville\, FL Certification Academy:geo:29.61894,-82.378753
END:VEVENT
BEGIN:VTIMEZONE
TZID:America/New_York
X-LIC-LOCATION:America/New_York
BEGIN:DAYLIGHT
DTSTART:20260308T030000
TZOFFSETFROM:-0500
TZOFFSETTO:-0400
TZNAME:EDT
END:DAYLIGHT
END:VTIMEZONE
END:VCALENDAR