BEGIN:VCALENDAR
VERSION:2.0
PRODID:-//wp-events-plugin.com//7.2.3.1//EN
TZID:America/Chicago
X-WR-TIMEZONE:America/Chicago
BEGIN:VEVENT
UID:382731@hrbuni.com
DTSTART;TZID=America/Chicago:20260831T083000
DTEND;TZID=America/Chicago:20260831T160000
DTSTAMP:20251219T141034Z
URL:https://hrbuni.com/search/fort-walton-fl-responsible-training-food-pro
 tection-manager-exam-course-2026-02-02-2026-03-16-2026-04-27-2026-06-08-20
 26-07-20-2026-08-31/
SUMMARY:Fort Walton\, FL Responsible Training Food Protection Manager Exam 
 & Course
DESCRIPTION:Fort Walton\, FL Responsible Training Food Protection Manager E
 xam & Course - Are you looking to earn your Food Protection Manager Certif
 ication in Fort Walton\, FL? Our Responsible Training program is the premi
 er choice for local food service professionals. As an ANSI-CFP accredited 
 provider\, we deliver a comprehensive curriculum that blends the most rece
 nt FDA Food Code updates with decades of hands-on food sanitation expertis
 e. Developed by Responsible Training in collaboration with industry leader
 s\, our course is designed to prepare you for real-world safety challenges
 .
ATTACH;FMTTYPE=image/jpeg:https://hrbuni.com/wp-content/uploads/2023/09/Sc
 reenshot-2024-06-10-at-7.40.56 PM-1.png
CATEGORIES:-- Instructor-Led In-Person Course &amp; Exam,Courses &amp;
 Exams Categories,Food Manager
LOCATION:Fort Walton\, FL Certification Academy\, HRBUniversal Training Cen
 ter\, Fort Walton\, Florida\, 32548\, United States
GEO:30.403485;-86.610711
X-APPLE-STRUCTURED-LOCATION;VALUE=URI;X-ADDRESS=HRBUniversal Training Cente
 r\, Fort Walton\, Florida\, 32548\, United States;X-APPLE-RADIUS=100;X-TIT
 LE=Fort Walton\, FL Certification Academy:geo:30.403485,-86.610711
END:VEVENT
BEGIN:VTIMEZONE
TZID:America/Chicago
X-LIC-LOCATION:America/Chicago
BEGIN:DAYLIGHT
DTSTART:20260308T030000
TZOFFSETFROM:-0600
TZOFFSETTO:-0500
TZNAME:CDT
END:DAYLIGHT
END:VTIMEZONE
END:VCALENDAR