BEGIN:VCALENDAR
VERSION:2.0
PRODID:-//wp-events-plugin.com//7.2.3.1//EN
TZID:America/Chicago
X-WR-TIMEZONE:America/Chicago
BEGIN:VEVENT
UID:383623@hrbuni.com
DTSTART;TZID=America/Chicago:20260720T083000
DTEND;TZID=America/Chicago:20260720T160000
DTSTAMP:20251230T225958Z
URL:https://hrbuni.com/search/fort-walton-beach-fl-servsafe-food-protectio
 n-manager-exam-course-2026-02-02-2026-03-16-2026-04-27-2026-06-08-2026-07-
 20/
SUMMARY:Fort Walton Beach\, FL ServSafe® Food Protection Manager Exam & Co
 urse
DESCRIPTION:Looking for a trusted ServSafe® Food Protection Manager Certif
 ication program in Fort Walton Beach\, FL? Look no further. Our comprehens
 ive training is accredited by the American National Standards Institute (A
 NSI)-Conference for Food Protection (CFP)\, ensuring you receive a credent
 ial that meets the highest standards.
ATTACH;FMTTYPE=image/jpeg:https://hrbuni.com/wp-content/uploads/2024/07/Se
 rvSafeProct.fw_-300x200-1.jpg
CATEGORIES:-- Instructor-Led In-Person Course &amp; Exam,Courses &amp;
 Exams Categories,Food Manager
LOCATION:Fort Walton\, FL ServSafe® & NRA Certification Programs\, HRBUniv
 ersal Training Center\, Fort Walton\, Florida\, 32548\, United States
GEO:30.403485;-86.610711
X-APPLE-STRUCTURED-LOCATION;VALUE=URI;X-ADDRESS=HRBUniversal Training Cente
 r\, Fort Walton\, Florida\, 32548\, United States;X-APPLE-RADIUS=100;X-TIT
 LE=Fort Walton\, FL ServSafe® & NRA Certification Programs:geo:30.403485,
 -86.610711
END:VEVENT
BEGIN:VTIMEZONE
TZID:America/Chicago
X-LIC-LOCATION:America/Chicago
BEGIN:DAYLIGHT
DTSTART:20260308T030000
TZOFFSETFROM:-0600
TZOFFSETTO:-0500
TZNAME:CDT
END:DAYLIGHT
END:VTIMEZONE
END:VCALENDAR