BEGIN:VCALENDAR
VERSION:2.0
PRODID:-//wp-events-plugin.com//7.2.3.1//EN
TZID:America/Chicago
X-WR-TIMEZONE:America/Chicago
BEGIN:VEVENT
UID:382275@hrbuni.com
DTSTART;TZID=America/Chicago:20260831T083000
DTEND;TZID=America/Chicago:20260831T160000
DTSTAMP:20251215T213929Z
URL:https://hrbuni.com/search/fort-walton-beach-fl-food-protection-manager
 -certification-course-exam-2026-02-02-2026-03-16-2026-04-27-2026-06-08-202
 6-07-20-2026-08-31/
SUMMARY:Fort Walton Beach\, FL Food Protection Manager Certification Course
  & Exam
DESCRIPTION:Fort Walton Beach\, FL Food Protection Manager Certification Co
 urse & Exam - Are you a food service professional ready to pass your Food 
 Protection Manager Certification exam with absolute confidence? Stay ahead
  of the curve\, ensure total regulatory compliance\, and master the essent
 ial knowledge required for certification with our intensive Food Manager S
 afety Training course.
ATTACH;FMTTYPE=image/jpeg:https://hrbuni.com/wp-content/uploads/2025/07/HR
 BUniversal-No-Line.jpg
CATEGORIES:-- Instructor-Led In-Person Course &amp; Exam,Courses &amp;
 Exams Categories,Food Manager
LOCATION:Fort Walton\, FL Certification Academy\, HRBUniversal Training Cen
 ter\, Fort Walton\, Florida\, 32548\, United States
GEO:30.403485;-86.610711
X-APPLE-STRUCTURED-LOCATION;VALUE=URI;X-ADDRESS=HRBUniversal Training Cente
 r\, Fort Walton\, Florida\, 32548\, United States;X-APPLE-RADIUS=100;X-TIT
 LE=Fort Walton\, FL Certification Academy:geo:30.403485,-86.610711
END:VEVENT
BEGIN:VTIMEZONE
TZID:America/Chicago
X-LIC-LOCATION:America/Chicago
BEGIN:DAYLIGHT
DTSTART:20260308T030000
TZOFFSETFROM:-0600
TZOFFSETTO:-0500
TZNAME:CDT
END:DAYLIGHT
END:VTIMEZONE
END:VCALENDAR