BEGIN:VCALENDAR
VERSION:2.0
PRODID:-//wp-events-plugin.com//7.2.3.1//EN
TZID:America/Chicago
X-WR-TIMEZONE:America/Chicago
BEGIN:VEVENT
UID:383180@hrbuni.com
DTSTART;TZID=America/Chicago:20260608T083000
DTEND;TZID=America/Chicago:20260608T160000
DTSTAMP:20251229T223832Z
URL:https://hrbuni.com/search/fort-walton-beach-fl-fmc-food-managers-certi
 fication-exam-course-2026-02-02-2026-03-16-2026-04-27-2026-06-08/
SUMMARY:Fort Walton Beach\, FL FMC® Food Managers Certification Exam & Cou
 rse
DESCRIPTION:Fort Walton Beach\, FL FMC® Food Managers Certification Exam &
  Course - Professional excellence starts with the right training. HRBUnive
 rsal offers a premier ANAB-accredited FMC® Food Managers Certification pr
 ogram designed to meet the highest industry standards. By combining the la
 test FDA Food Code with decades of hands-on experience\, we prepare you to
  tackle any food sanitation challenge.
ATTACH;FMTTYPE=image/jpeg:https://hrbuni.com/wp-content/uploads/2024/06/Sc
 reenshot-2024-06-12-at-11.47.05 AM-1.png
CATEGORIES:-- Instructor-Led In-Person Course &amp; Exam,Courses &amp;
 Exams Categories,Food Manager
LOCATION:Fort Walton\, FL Certification Academy\, HRBUniversal Training Cen
 ter\, Fort Walton\, Florida\, 32548\, United States
GEO:30.403485;-86.610711
X-APPLE-STRUCTURED-LOCATION;VALUE=URI;X-ADDRESS=HRBUniversal Training Cente
 r\, Fort Walton\, Florida\, 32548\, United States;X-APPLE-RADIUS=100;X-TIT
 LE=Fort Walton\, FL Certification Academy:geo:30.403485,-86.610711
END:VEVENT
BEGIN:VTIMEZONE
TZID:America/Chicago
X-LIC-LOCATION:America/Chicago
BEGIN:DAYLIGHT
DTSTART:20260308T030000
TZOFFSETFROM:-0600
TZOFFSETTO:-0500
TZNAME:CDT
END:DAYLIGHT
END:VTIMEZONE
END:VCALENDAR